BEGIN:VCALENDAR
VERSION:2.0
PRODID:-//ChamberMaster//Event Calendar 2.0//EN
METHOD:PUBLISH
X-PUBLISHED-TTL:P3D
REFRESH-INTERVAL:P3D
CALSCALE:GREGORIAN
BEGIN:VEVENT
DTSTART:20161125T130000Z
DTEND:20161126T010000Z
X-MICROSOFT-CDO-ALLDAYEVENT:FALSE
SUMMARY:Free Gift Wrapping
DESCRIPTION:Organization:\n\nBad Entertainment 8a-1p\n\nRelay for Life 1p-8p\n\n\n\nEnjoy having your gifts wrapped by various Community Organizations throughout the season. Compliments of the Concord Mall Merchant's Association. Concord Mall Purchases Only.
X-ALT-DESC;FMTTYPE=text/html:Organization:<br />\nBad Entertainment 8a-1p<br />\nRelay for Life 1p-8p<br />\n<br />\nEnjoy having your gifts wrapped by various Community Organizations throughout the season. Compliments of the Concord Mall Merchant&#39\;s Association. Concord Mall Purchases Only.
LOCATION:Concord Mall 3701 S. Main Street Elkhart\, IN 46517 574-875-6502
UID:e.689.16286
SEQUENCE:3
DTSTAMP:20260425T203338Z
URL:https://business.goshen.org/events/details/free-gift-wrapping-16286
END:VEVENT

END:VCALENDAR
