BEGIN:VCALENDAR
VERSION:2.0
PRODID:-//ChamberMaster//Event Calendar 2.0//EN
METHOD:PUBLISH
X-PUBLISHED-TTL:P3D
REFRESH-INTERVAL:P3D
CALSCALE:GREGORIAN
BEGIN:VEVENT
DTSTART:20181015T140000Z
DTEND:20181015T153000Z
X-MICROSOFT-CDO-ALLDAYEVENT:FALSE
SUMMARY:Forest People Stories
DESCRIPTION:We'll examine our relationship to trees and forests through story\, in fairytales\, mythology\, legends\, and in our own spiritual heritage. Next we'll think about ways the vast New World forests affected colonizers and shaped attitudes today. We'll ponder how forests lurk in our memory and what they have meant to us. Finally\, we'll widen the lens a bit to look at our place\, Goshen\, and tell the forest/tree story of our bio-geography. Story-telling participation will be encouraged throughout! Aaron Sawatsky Kingsley is the Goshen City Forester. This class is four days: Oct. 15\, 17\, 22 & 24. Register at http://life-learn.org/ or call 574-535-7566.
X-ALT-DESC;FMTTYPE=text/html:We&#39\;ll examine our relationship to trees and forests through story\, in fairytales\, mythology\, legends\, and in our own spiritual heritage. Next we&#39\;ll think about ways the vast New World forests affected colonizers and shaped attitudes today. We&#39\;ll ponder how forests lurk in our memory and what they have meant to us. Finally\, we&#39\;ll widen the lens a bit to look at our place\, Goshen\, and tell the forest/tree story of our bio-geography. Story-telling participation will be encouraged throughout! Aaron Sawatsky Kingsley is the Goshen City Forester. This class is four days: Oct. 15\, 17\, 22 &amp\; 24. Register at http://life-learn.org/ or call 574-535-7566.
LOCATION:Greencroft Goshen Community Center\, 1820 Greencroft Blvd.
UID:e.689.17904
SEQUENCE:3
DTSTAMP:20260424T044919Z
URL:https://business.goshen.org/events/details/forest-people-stories-17904
END:VEVENT

END:VCALENDAR
