BEGIN:VCALENDAR
VERSION:2.0
PRODID:-//ChamberMaster//Event Calendar 2.0//EN
METHOD:PUBLISH
X-PUBLISHED-TTL:P3D
REFRESH-INTERVAL:P3D
CALSCALE:GREGORIAN
BEGIN:VEVENT
DTSTART:20210824T180000Z
DTEND:20210824T193000Z
X-MICROSOFT-CDO-ALLDAYEVENT:FALSE
SUMMARY:For the Good of Goshen
DESCRIPTION:What does it take to create a community you're proud to call home and how do local organizations and businesses contribute to that? What are elements that help drive Goshen's growth and create a healthy community? You've heard it said "It takes a village to raise a child." It also takes the village to raise the village. Come prepared to listen to several contributors and have a good discussion. Allan Kauffman\, class coordinator\, is the former mayor of Goshen. Attend either in-person or virtually.
X-ALT-DESC;FMTTYPE=text/html:What does it take to create a community you&rsquo\;re proud to call home and how do local organizations and businesses contribute to that? What are elements that help drive Goshen&rsquo\;s growth and create a healthy community? You&rsquo\;ve heard it said &ldquo\;It takes a village to raise a child.&rdquo\; It also takes the village to raise the village. Come prepared to listen to several contributors and have a good discussion. Allan Kauffman\, class coordinator\, is the former mayor of Goshen. Attend either in-person or virtually.
LOCATION:Greencroft Goshen Communities Center
UID:e.689.22608
SEQUENCE:3
DTSTAMP:20260421T164440Z
URL:https://business.goshen.org/events/details/for-the-good-of-goshen-22608
END:VEVENT

END:VCALENDAR
