BEGIN:VCALENDAR
VERSION:2.0
PRODID:-//ChamberMaster//Event Calendar 2.0//EN
METHOD:PUBLISH
X-PUBLISHED-TTL:P3D
REFRESH-INTERVAL:P3D
CALSCALE:GREGORIAN
BEGIN:VEVENT
DTSTART:20190429T140000Z
DTEND:20190429T153000Z
X-MICROSOFT-CDO-ALLDAYEVENT:FALSE
SUMMARY:Follow the Lamb\, not the Beast: The Book of Revelation Then and Now
DESCRIPTION:The last book of the Bible generates speculation and mischief\, but can comfort and guide us today. Join Nelson Kraybill in examining first-century historical realities that stand behind this mysterious book. With images and stories\, Kraybill will show what the book of Revelation may have meant to its first readers\, and explore ways we can give allegiance to the Lamb and the new Jerusalem today. J. Nelson Kraybill is president of Mennonite World Conference. He has lectured and preached about Revelation on four continents\, and is author of Apocalypse and Allegiance: Worship\, Politics and Devotion in the book of Revelation (Brazos\, 2010). Taught by Nelson Kraybill Register Online: www.life-learn.org Mail or Stop in: Goshen College Box Office\, 1700 South Main Street\, Goshen\, IN 46526 (Located in the Music Center lobby\, open M-F\, 9:00 a.m.-1:00 p.m.) Phone: 574-535-7566
X-ALT-DESC;FMTTYPE=text/html:The last book of the Bible generates speculation and mischief\, but can comfort and guide us today. Join Nelson Kraybill in examining first-century historical realities that stand behind this mysterious book. With images and stories\, Kraybill will show what the book of Revelation may have meant to its first readers\, and explore ways we can give allegiance to the Lamb and the new Jerusalem today. J. Nelson Kraybill is president of Mennonite World Conference. He has lectured and preached about Revelation on four continents\, and is author of Apocalypse and Allegiance: Worship\, Politics and Devotion in the book of Revelation (Brazos\, 2010). Taught by Nelson Kraybill Register Online: www.life-learn.org Mail or Stop in: Goshen College Box Office\, 1700 South Main Street\, Goshen\, IN 46526 (Located in the Music Center lobby\, open M-F\, 9:00 a.m.-1:00 p.m.) Phone: 574-535-7566
LOCATION:Greencroft Goshen Community Center Jennings Auditorium
UID:e.689.18599
SEQUENCE:3
DTSTAMP:20260423T164329Z
URL:https://business.goshen.org/events/details/follow-the-lamb-not-the-beast-the-book-of-revelation-then-and-now-18599
END:VEVENT

END:VCALENDAR
