BEGIN:VCALENDAR
VERSION:2.0
PRODID:-//ChamberMaster//Event Calendar 2.0//EN
METHOD:PUBLISH
X-PUBLISHED-TTL:P3D
REFRESH-INTERVAL:P3D
CALSCALE:GREGORIAN
BEGIN:VEVENT
DTSTART:20170105T233000Z
DTEND:20170127T003000Z
X-MICROSOFT-CDO-ALLDAYEVENT:FALSE
SUMMARY:FIT TOGETHER
DESCRIPTION:INTRODUCE YOUR CHILD TO A FUN AND HEALTHY LIFESTYLE Learn how to have an active lifestyle and promote healthy habits with your child. This program is designed for children ages five - 12 and their parents. Topics include: healthy eating\, label reading\, playful exercise and family physical activity.
X-ALT-DESC;FMTTYPE=text/html:INTRODUCE YOUR CHILD TO A FUN AND HEALTHY LIFESTYLE Learn how to have an active lifestyle and promote healthy habits with your child. This program is designed for children ages five - 12 and their parents. Topics include: healthy eating\, label reading\, playful exercise and family physical activity.
LOCATION:Goshen Hospital Arbor Conference Rooms 200 High Park Ave. Goshen\, IN 46526
UID:e.689.16297
SEQUENCE:3
DTSTAMP:20260425T154319Z
URL:https://business.goshen.org/events/details/fit-together-16297
END:VEVENT

END:VCALENDAR
