BEGIN:VCALENDAR
VERSION:2.0
PRODID:-//ChamberMaster//Event Calendar 2.0//EN
METHOD:PUBLISH
X-PUBLISHED-TTL:P3D
REFRESH-INTERVAL:P3D
CALSCALE:GREGORIAN
BEGIN:VEVENT
DTSTART:20171104T140000Z
DTEND:20171104T180000Z
X-MICROSOFT-CDO-ALLDAYEVENT:FALSE
SUMMARY:FIT TOGETHER
DESCRIPTION:INTRODUCE YOUR CHILD TO A FUN AND HEALTHY LIFESTYLE Learn how to have an active lifestyle and promote healthy habits with your child. This program is designed for children ages five - 12 and their parents. Topics include healthy eating\, label reading\, playful exercise and family physical activity. FREE lunch provided.
X-ALT-DESC;FMTTYPE=text/html:INTRODUCE YOUR CHILD TO A FUN AND HEALTHY LIFESTYLE Learn how to have an active lifestyle and promote healthy habits with your child. This program is designed for children ages five - 12 and their parents. Topics include healthy eating\, label reading\, playful exercise and family physical activity. FREE lunch provided.
LOCATION:Goshen Hospital\, Arbor Conference Center 200 High Park Ave.\, Goshen\, IN 46526
UID:e.689.16975
SEQUENCE:3
DTSTAMP:20260424T230938Z
URL:https://business.goshen.org/events/details/fit-together-11-04-2017-16975
END:VEVENT

END:VCALENDAR
