BEGIN:VCALENDAR
VERSION:2.0
PRODID:-//ChamberMaster//Event Calendar 2.0//EN
METHOD:PUBLISH
X-PUBLISHED-TTL:P3D
REFRESH-INTERVAL:P3D
CALSCALE:GREGORIAN
BEGIN:VEVENT
DTSTART:20190906T210000Z
DTEND:20190907T010000Z
X-MICROSOFT-CDO-ALLDAYEVENT:FALSE
SUMMARY:First Fridays' Volksfest
DESCRIPTION:Start your weekend with the good volks in Goshen\, Indiana! Goshen's Volksfest packs an evening full of all-things "volks"\, people ("Volks" is German for people) and VOLKSwagens! Check out these groovy historic vehicles while enjoying great food\, craft brews\, live music\, and more.
X-ALT-DESC;FMTTYPE=text/html:Start your weekend with the good volks in Goshen\, Indiana! Goshen&rsquo\;s Volksfest packs an evening full of all-things &ldquo\;volks&rdquo\;\, people (&ldquo\;Volks&rdquo\; is German for people) and VOLKSwagens! Check out these groovy historic vehicles while enjoying great food\, craft brews\, live music\, and more.
LOCATION:Downtown Goshen
UID:e.689.19955
SEQUENCE:3
DTSTAMP:20260423T070925Z
URL:https://business.goshen.org/events/details/first-fridays-volksfest-19955
END:VEVENT

END:VCALENDAR
