BEGIN:VCALENDAR
VERSION:2.0
PRODID:-//ChamberMaster//Event Calendar 2.0//EN
METHOD:PUBLISH
X-PUBLISHED-TTL:P3D
REFRESH-INTERVAL:P3D
CALSCALE:GREGORIAN
BEGIN:VEVENT
DTSTART:20190802T210000Z
DTEND:20190803T010000Z
X-MICROSOFT-CDO-ALLDAYEVENT:FALSE
SUMMARY:First Fridays' Cornfest
DESCRIPTION:Celebrate First Fridays the Hoosier way! CornFest celebrates our state's delicious agricultural heritage   corn! Participate in our Cornhole Tournament\, enjoy corn-on-the-cob\, popcorn\, and other food specials\, try a whiskey tasting\, ride the mechanical bull\, enjoy a free outdoor concert\, and grab a partner and do-si-do the night away. Corn't wait! Sign up your cornhole teams here: https://cityonthego.wufoo.com/forms/z1ucvc8c0xth9qx/
X-ALT-DESC;FMTTYPE=text/html:Celebrate First Fridays the Hoosier way! CornFest celebrates our state&rsquo\;s delicious agricultural heritage &hellip\; corn! Participate in our Cornhole Tournament\, enjoy corn-on-the-cob\, popcorn\, and other food specials\, try a whiskey tasting\, ride the mechanical bull\, enjoy a free outdoor concert\, and grab a partner and do-si-do the night away. Corn&rsquo\;t wait! Sign up your cornhole teams here: https://cityonthego.wufoo.com/forms/z1ucvc8c0xth9qx/
LOCATION:Downtown Goshen
UID:e.689.19954
SEQUENCE:3
DTSTAMP:20260419T212901Z
URL:https://business.goshen.org/events/details/first-fridays-cornfest-19954
END:VEVENT

END:VCALENDAR
