BEGIN:VCALENDAR
VERSION:2.0
PRODID:-//ChamberMaster//Event Calendar 2.0//EN
METHOD:PUBLISH
X-PUBLISHED-TTL:P3D
REFRESH-INTERVAL:P3D
CALSCALE:GREGORIAN
BEGIN:VEVENT
DTSTART:20200227T210000Z
DTEND:20200227T220000Z
X-MICROSOFT-CDO-ALLDAYEVENT:FALSE
SUMMARY:Finding Your Path....Goshen YP Event
DESCRIPTION:Finding your path\, a job vs. a career\n\n\n\nHosted by The Young Professionals of Goshen and Lippert Components\n\n\n\n\n\n\nListen and learn from local experts in four different industries: \n\n\n\n1. Braxston Cave - Lippert Components \n\n2. Rafael Barahona - LightBox: Creative \n\n3. Brent Miller - Everence Financial \n\n4. Suzie Weirick - Elkhart County Commissioner\n\n\n\nSurvey Question:\n\n\n\nWhat would you like to have addressed on this topic? Please email nkieffer@goshen.org
X-ALT-DESC;FMTTYPE=text/html:<div style="text-align: center\;">\n<h1 class="_5gmx" data-testid="event-permalink-event-name" id="seo_h1_tag" style="color: rgb(29\, 33\, 41)\; font-size: 20px\; font-weight: normal\; margin: 0px 12px 0px 0px\; padding: 0px\; line-height: 28px\; font-family: Helvetica\, Arial\, sans-serif\; background-color: rgb(255\, 255\, 255)\;">Finding your path\, a job vs. a career</h1>\n\n<div class="_5gnb" style="color: rgb(144\, 148\, 156)\; font-size: 14px\; line-height: 18px\; margin: 2px 12px 0px 0px\; overflow: hidden\; text-overflow: ellipsis\; font-family: Helvetica\, Arial\, sans-serif\; background-color: rgb(255\, 255\, 255)\;">\n<div class="_b9-" style="display: inline\; font-family: inherit\;">\n<div content="The Young Professionals of Goshen &amp\; Lippert Components" data-testid="event_permalink_feature_line" style="font-family: inherit\; display: inline\;">Hosted by&nbsp\;<a aria-describedby="u_4h_1" aria-owns="" data-hovercard="/ajax/hovercard/page.php?id=298737553933740&amp\;extragetparams=%7B%22eid%22%3A%22ARB5WeBhSr6o5m1ubse8GkiZgiyerAH8_8IWx_m0ZsY_PcbLOO700iGF3JWhVfoag7mHSKkZ9oxeqk7E%22%7D" data-hovercard-position="below" href="https://www.facebook.com/goshenyp/?eid=ARB5WeBhSr6o5m1ubse8GkiZgiyerAH8_8IWx_m0ZsY_PcbLOO700iGF3JWhVfoag7mHSKkZ9oxeqk7E" id="js_1ox" style="color: rgb(56\, 88\, 152)\; cursor: pointer\; text-decoration-line: none\; font-family: inherit\;">The Young Professionals of Goshen</a>&nbsp\;and&nbsp\;<a data-hovercard="/ajax/hovercard/page.php?id=156867451164286&amp\;extragetparams=%7B%22eid%22%3A%22ARBHKofwN4RHA3uDQ_jZ2lIe5Myw3S4gv_BfpV2I9BNlHxCVWOYu-I-2p9aJKciYkCU4_k93UitVuG1m%22%7D" data-hovercard-position="below" href="https://www.facebook.com/LippertComponents/?eid=ARBHKofwN4RHA3uDQ_jZ2lIe5Myw3S4gv_BfpV2I9BNlHxCVWOYu-I-2p9aJKciYkCU4_k93UitVuG1m" style="color: rgb(56\, 88\, 152)\; cursor: pointer\; text-decoration-line: none\; font-family: inherit\;">Lippert Components</a></div>\n</div>\n</div>\n<br />\n<br />\n<span style="color: rgb(29\, 33\, 41)\; font-family: Helvetica\, Arial\, sans-serif\; font-size: 14px\; white-space: pre-wrap\; background-color: rgb(255\, 255\, 255)\;">Listen and learn from local experts in four different industries: </span><br />\n<br style="color: rgb(29\, 33\, 41)\; font-family: Helvetica\, Arial\, sans-serif\; font-size: 14px\; white-space: pre-wrap\; background-color: rgb(255\, 255\, 255)\;" />\n<span style="color: rgb(29\, 33\, 41)\; font-family: Helvetica\, Arial\, sans-serif\; font-size: 14px\; white-space: pre-wrap\; background-color: rgb(255\, 255\, 255)\;">1. Braxston Cave - Lippert Components </span><br style="color: rgb(29\, 33\, 41)\; font-family: Helvetica\, Arial\, sans-serif\; font-size: 14px\; white-space: pre-wrap\; background-color: rgb(255\, 255\, 255)\;" />\n<span style="color: rgb(29\, 33\, 41)\; font-family: Helvetica\, Arial\, sans-serif\; font-size: 14px\; white-space: pre-wrap\; background-color: rgb(255\, 255\, 255)\;">2. Rafael Barahona - LightBox: Creative </span><br style="color: rgb(29\, 33\, 41)\; font-family: Helvetica\, Arial\, sans-serif\; font-size: 14px\; white-space: pre-wrap\; background-color: rgb(255\, 255\, 255)\;" />\n<span style="color: rgb(29\, 33\, 41)\; font-family: Helvetica\, Arial\, sans-serif\; font-size: 14px\; white-space: pre-wrap\; background-color: rgb(255\, 255\, 255)\;">3. Brent Miller - Everence Financial </span><br style="color: rgb(29\, 33\, 41)\; font-family: Helvetica\, Arial\, sans-serif\; font-size: 14px\; white-space: pre-wrap\; background-color: rgb(255\, 255\, 255)\;" />\n<span style="color: rgb(29\, 33\, 41)\; font-family: Helvetica\, Arial\, sans-serif\; font-size: 14px\; white-space: pre-wrap\; background-color: rgb(255\, 255\, 255)\;">4. Suzie Weirick - Elkhart County Commissioner<br />\n<br />\nSurvey Question:<br />\n<br />\nWhat would you like to have addressed on this topic? Please email nkieffer@goshen.org</span><br />\n&nbsp\;</div>\n
LOCATION:Goshen Chamber of Commerce 232 S. Main Street Goshen\, IN 46526
UID:e.689.20621
SEQUENCE:3
DTSTAMP:20260422T223840Z
URL:https://business.goshen.org/events/details/finding-your-path-goshen-yp-event-20621
END:VEVENT

END:VCALENDAR
