BEGIN:VCALENDAR
VERSION:2.0
PRODID:-//ChamberMaster//Event Calendar 2.0//EN
METHOD:PUBLISH
X-PUBLISHED-TTL:P3D
REFRESH-INTERVAL:P3D
CALSCALE:GREGORIAN
BEGIN:VEVENT
DTSTART:20190601T150000Z
DTEND:20190601T190000Z
X-MICROSOFT-CDO-ALLDAYEVENT:FALSE
SUMMARY:Financial Freedom Fair
DESCRIPTION:Lacasa invites you to the Financial Freedom Fair on Saturday\, June 1! The event is from 11am to 3pm and will be at CAPS - Child And Parent Services (1000 W. Hively Ave\, Elkhart\, IN 46517)\n\n\n\nEveryone (no seriously EVERYONE) is invited to this completely free event. FREE 1 on 1 financial credit reviews\, FREE financial workshops\, FREE child care services\, FREE activities for kids (including two bounce houses)\, and FREE lunch!!\n\n\n\nWe will also have vendors displaying booths there and answering any questions you have about their services. The vendors will be:\n\n- Lacasa\n\n- Centier Bank\n\n- United Way of Elkhart County\n\n- CAPS\n\n- ADEC\n\n- Heart City Health\n\n- Elkhart Area Career Center\n\n- Boys and Girls Club of Elkhart County\n\n- Elkhart Public Library\n\n\n\nThank you to all of our supporters for this event:\n\n- Community Foundation of Elkhart County\n\n- Centier Bank\n\n- United Way of Elkhart County\n\n- CAPS\n\n- ADEC\n\n- Corner Stone CPA Group\n\n- Boys and Girls Club of Elkhart County\n\n- Hawkins Water Tech.\n\n- Heart City Health\n\n- Little Kidders Entertainment\n\n- Meijer\n\n- Welch Packaging\n\n\n\nWe hope to see everyone there! For more information please go to lacasainc.net/events or call us at 574-533-4450.
X-ALT-DESC;FMTTYPE=text/html:<span style="color:rgb(29\, 33\, 41)\; font-family:system-ui\,-apple-system\,blinkmacsystemfont\,.sfnstext-regular\,sans-serif\; font-size:14px">Lacasa invites you to the Financial Freedom Fair on Saturday\, June 1! The event is from 11am to 3pm and will be at </span><a href="https://www.facebook.com/CAPSElkhart/" style="color: rgb(56\, 88\, 152)\; cursor: pointer\; text-decoration: none\; font-family: system-ui\, -apple-system\, BlinkMacSystemFont\, &quot\;.SFNSText-Regular&quot\;\, sans-serif\; font-size: 14px\; white-space: pre-wrap\;" target="_blank">CAPS - Child And Parent Services</a><span style="color:rgb(29\, 33\, 41)\; font-family:system-ui\,-apple-system\,blinkmacsystemfont\,.sfnstext-regular\,sans-serif\; font-size:14px"> (1000 W. Hively Ave\, Elkhart\, IN 46517)</span><br />\n<br />\n<span style="color:rgb(29\, 33\, 41)\; font-family:system-ui\,-apple-system\,blinkmacsystemfont\,.sfnstext-regular\,sans-serif\; font-size:14px">Everyone (no seriously EVERYONE) is invited to this completely free event. FREE 1 on 1 financial credit reviews\, FREE financial workshops\, FREE child care services\, FREE activities for kids (including two bounce houses)\, and FREE lunch!!</span><br />\n<br />\n<span style="color:rgb(29\, 33\, 41)\; font-family:system-ui\,-apple-system\,blinkmacsystemfont\,.sfnstext-regular\,sans-serif\; font-size:14px">We will also have vendors displaying booths there and answering any questions you have about their services. The vendors will be:</span><br />\n<span style="color:rgb(29\, 33\, 41)\; font-family:system-ui\,-apple-system\,blinkmacsystemfont\,.sfnstext-regular\,sans-serif\; font-size:14px">- Lacasa</span><br />\n<span style="color:rgb(29\, 33\, 41)\; font-family:system-ui\,-apple-system\,blinkmacsystemfont\,.sfnstext-regular\,sans-serif\; font-size:14px">- Centier Bank</span><br />\n<span style="color:rgb(29\, 33\, 41)\; font-family:system-ui\,-apple-system\,blinkmacsystemfont\,.sfnstext-regular\,sans-serif\; font-size:14px">- United Way of Elkhart County</span><br />\n<span style="color:rgb(29\, 33\, 41)\; font-family:system-ui\,-apple-system\,blinkmacsystemfont\,.sfnstext-regular\,sans-serif\; font-size:14px">- CAPS</span><br />\n<span style="color:rgb(29\, 33\, 41)\; font-family:system-ui\,-apple-system\,blinkmacsystemfont\,.sfnstext-regular\,sans-serif\; font-size:14px">- ADEC</span><br />\n<span style="color:rgb(29\, 33\, 41)\; font-family:system-ui\,-apple-system\,blinkmacsystemfont\,.sfnstext-regular\,sans-serif\; font-size:14px">- Heart City Health</span><br />\n<span style="color:rgb(29\, 33\, 41)\; font-family:system-ui\,-apple-system\,blinkmacsystemfont\,.sfnstext-regular\,sans-serif\; font-size:14px">- Elkhart Area Career Center</span><br />\n<span style="color:rgb(29\, 33\, 41)\; font-family:system-ui\,-apple-system\,blinkmacsystemfont\,.sfnstext-regular\,sans-serif\; font-size:14px">- Boys and Girls Club of Elkhart County</span><br />\n<span style="color:rgb(29\, 33\, 41)\; font-family:system-ui\,-apple-system\,blinkmacsystemfont\,.sfnstext-regular\,sans-serif\; font-size:14px">- Elkhart Public Library</span><br />\n<br />\n<span style="color:rgb(29\, 33\, 41)\; font-family:system-ui\,-apple-system\,blinkmacsystemfont\,.sfnstext-regular\,sans-serif\; font-size:14px">Thank you to all of our supporters for this event:</span><br />\n<span style="color:rgb(29\, 33\, 41)\; font-family:system-ui\,-apple-system\,blinkmacsystemfont\,.sfnstext-regular\,sans-serif\; font-size:14px">- Community Foundation of Elkhart County</span><br />\n<span style="color:rgb(29\, 33\, 41)\; font-family:system-ui\,-apple-system\,blinkmacsystemfont\,.sfnstext-regular\,sans-serif\; font-size:14px">- Centier Bank</span><br />\n<span style="color:rgb(29\, 33\, 41)\; font-family:system-ui\,-apple-system\,blinkmacsystemfont\,.sfnstext-regular\,sans-serif\; font-size:14px">- United Way of Elkhart County</span><br />\n<span style="color:rgb(29\, 33\, 41)\; font-family:system-ui\,-apple-system\,blinkmacsystemfont\,.sfnstext-regular\,sans-serif\; font-size:14px">- CAPS</span><br />\n<span style="color:rgb(29\, 33\, 41)\; font-family:system-ui\,-apple-system\,blinkmacsystemfont\,.sfnstext-regular\,sans-serif\; font-size:14px">- ADEC</span><br />\n<span style="color:rgb(29\, 33\, 41)\; font-family:system-ui\,-apple-system\,blinkmacsystemfont\,.sfnstext-regular\,sans-serif\; font-size:14px">- Corner Stone CPA Group</span><br />\n<span style="color:rgb(29\, 33\, 41)\; font-family:system-ui\,-apple-system\,blinkmacsystemfont\,.sfnstext-regular\,sans-serif\; font-size:14px">- Boys and Girls Club of Elkhart County</span><br />\n<span style="color:rgb(29\, 33\, 41)\; font-family:system-ui\,-apple-system\,blinkmacsystemfont\,.sfnstext-regular\,sans-serif\; font-size:14px">- Hawkins Water Tech.</span><br />\n<span style="color:rgb(29\, 33\, 41)\; font-family:system-ui\,-apple-system\,blinkmacsystemfont\,.sfnstext-regular\,sans-serif\; font-size:14px">- Heart City Health</span><br />\n<span style="color:rgb(29\, 33\, 41)\; font-family:system-ui\,-apple-system\,blinkmacsystemfont\,.sfnstext-regular\,sans-serif\; font-size:14px">- Little Kidders Entertainment</span><br />\n<span style="color:rgb(29\, 33\, 41)\; font-family:system-ui\,-apple-system\,blinkmacsystemfont\,.sfnstext-regular\,sans-serif\; font-size:14px">- Meijer</span><br />\n<span style="color:rgb(29\, 33\, 41)\; font-family:system-ui\,-apple-system\,blinkmacsystemfont\,.sfnstext-regular\,sans-serif\; font-size:14px">- Welch Packaging</span><br />\n<br />\n<span style="color:rgb(29\, 33\, 41)\; font-family:system-ui\,-apple-system\,blinkmacsystemfont\,.sfnstext-regular\,sans-serif\; font-size:14px">We hope to see everyone there! For more information please go to </span><a href="https://l.facebook.com/l.php?u=http%3A%2F%2Flacasainc.net%2Fevents%3Ffbclid%3DIwAR2sXDOc7x6etBaZ3vlD86pspsXJbJofZAW42e2k94tMZLxBBCaD99ELwRM&amp\;h=AT1NBp2JeL8ATViscUh2sff93UNHcbudCrsRIeThXbMEC39vk8w-Fyp2iMhD8rEL6IeMy2j-VBXK09CABehISucGUccPlMj7UGmRdR6rpvfTQJVFWoif67dEDQKJBif03Df4asM" rel="nofollow noopener" style="color: rgb(56\, 88\, 152)\; cursor: pointer\; text-decoration: none\; font-family: system-ui\, -apple-system\, BlinkMacSystemFont\, &quot\;.SFNSText-Regular&quot\;\, sans-serif\; font-size: 14px\; white-space: pre-wrap\;" target="_blank">lacasainc.net/events</a><span style="color:rgb(29\, 33\, 41)\; font-family:system-ui\,-apple-system\,blinkmacsystemfont\,.sfnstext-regular\,sans-serif\; font-size:14px"> or call us at 574-533-4450.</span>
LOCATION:CAPS Elkhart 1000 W. Hively Ave Elkhart\, Ind. 46517
UID:e.689.19252
SEQUENCE:3
DTSTAMP:20260423T124859Z
URL:https://business.goshen.org/events/details/financial-freedom-fair-19252
END:VEVENT

END:VCALENDAR
