BEGIN:VCALENDAR
VERSION:2.0
PRODID:-//ChamberMaster//Event Calendar 2.0//EN
METHOD:PUBLISH
X-PUBLISHED-TTL:P3D
REFRESH-INTERVAL:P3D
CALSCALE:GREGORIAN
BEGIN:VEVENT
DTSTART:20211012T170000Z
DTEND:20211012T200000Z
X-MICROSOFT-CDO-ALLDAYEVENT:FALSE
SUMMARY:Film Series
DESCRIPTION:Four film-goers will present and lead discussions of favorite films. Oct. 12: Adrienne Nesbitt\, Inside Out (95 min.)\, a Pixar animation of a 5-year old girl's outer and inner life. Oct. 19: Ervin Beck\, Grand Budapest Hotel (100 min.)\, a comic adventure in Eastern Europe between the World Wars. Oct. 26: Kyle Hufford\, What Lies Inside: Healing in the Face of Trauma (125 min.)\, documentary studying the darkness that binds us to our suffering. Nov. 2: Jo-Ann Brant\, Departures (Japan\, 130 min.)\, an unemployed cellist trains to prepare the dead for funerals. Each film will be viewed in one sitting\, with brief introductions and follow-up discussions\, so each session will exceed normal LLI classes in length. Ervin Beck\, co-ordinator\, is Professor Emeritus of English at Goshen College.
X-ALT-DESC;FMTTYPE=text/html:Four film-goers will present and lead discussions of favorite films. Oct. 12: Adrienne Nesbitt\, Inside Out (95 min.)\, a Pixar animation of a 5-year old girl&rsquo\;s outer and inner life. Oct. 19: Ervin Beck\, Grand Budapest Hotel (100 min.)\, a comic adventure in Eastern Europe between the World Wars. Oct. 26: Kyle Hufford\, What Lies Inside: Healing in the Face of Trauma (125 min.)\, documentary studying the darkness that binds us to our suffering. Nov. 2: Jo-Ann Brant\, Departures (Japan\, 130 min.)\, an unemployed cellist trains to prepare the dead for funerals. Each film will be viewed in one sitting\, with brief introductions and follow-up discussions\, so each session will exceed normal LLI classes in length. Ervin Beck\, co-ordinator\, is Professor Emeritus of English at Goshen College.
LOCATION:Greencroft Goshen Community Center
UID:e.689.22612
SEQUENCE:3
DTSTAMP:20260421T115845Z
URL:https://business.goshen.org/events/details/film-series-22612
END:VEVENT

END:VCALENDAR
