BEGIN:VCALENDAR
VERSION:2.0
PRODID:-//ChamberMaster//Event Calendar 2.0//EN
METHOD:PUBLISH
X-PUBLISHED-TTL:P3D
REFRESH-INTERVAL:P3D
CALSCALE:GREGORIAN
BEGIN:VEVENT
DTSTART:20180414T210000Z
DTEND:20180414T230000Z
X-MICROSOFT-CDO-ALLDAYEVENT:FALSE
SUMMARY:Fiesta Feast
DESCRIPTION:Come to enjoy good food\, wonderful fellowship\, and live music. San Marcos Mexican Grill in Goshen will provide a traditional Mexican meal. It's a delicious opportunity to support the mission of the Center: providing medical care for the uninsured and support programs for our immigrant neighbors.
X-ALT-DESC;FMTTYPE=text/html:<span style="font-family:calibri\,sans-serif\;">Come to enjoy good food\, wonderful fellowship\, and live music. San Marcos Mexican Grill in Goshen will provide a traditional Mexican meal.</span><span style="font-family:calibri\,sans-serif\;"> It&rsquo\;s a delicious opportunity to support the mission of the Center: providing medical care for the uninsured and support programs for our immigrant neighbors.</span>
LOCATION:College Mennonite Church\, 1900 S. Main Street\, Goshen
UID:e.689.17748
SEQUENCE:3
DTSTAMP:20260424T153323Z
URL:https://business.goshen.org/events/details/fiesta-feast-17748
END:VEVENT

END:VCALENDAR
