BEGIN:VCALENDAR
VERSION:2.0
PRODID:-//ChamberMaster//Event Calendar 2.0//EN
METHOD:PUBLISH
X-PUBLISHED-TTL:P3D
REFRESH-INTERVAL:P3D
CALSCALE:GREGORIAN
BEGIN:VEVENT
DTSTART:20190412T123000Z
DTEND:20190412T200000Z
X-MICROSOFT-CDO-ALLDAYEVENT:FALSE
SUMMARY:Field Trip to Merry Lea
DESCRIPTION:Join us for a field trip to the Sustainable Farm nestled within Merry Lea Environmental Learning Center's 1\,189 acre nature preserve. Merry Lea staff will lead tours of the farm\, and participants will engage in activities exploring our greenhouse\, animal barn\, and production beds. A catered lunch is provided. Taught by Marcos Stoltzfus Register Online: www.life-learn.org Mail or Stop in: Goshen College Box Office\, 1700 South Main Street\, Goshen\, IN 46526 (Located in the Music Center lobby\, open M-F\, 9:00 a.m.-1:00 p.m.) Phone: 574-535-7566
X-ALT-DESC;FMTTYPE=text/html:Join us for a field trip to the Sustainable Farm nestled within Merry Lea Environmental Learning Center&rsquo\;s 1\,189 acre nature preserve. Merry Lea staff will lead tours of the farm\, and participants will engage in activities exploring our greenhouse\, animal barn\, and production beds. A catered lunch is provided. Taught by Marcos Stoltzfus Register Online: www.life-learn.org Mail or Stop in: Goshen College Box Office\, 1700 South Main Street\, Goshen\, IN 46526 (Located in the Music Center lobby\, open M-F\, 9:00 a.m.-1:00 p.m.) Phone: 574-535-7566
LOCATION:Merry Lea Environmental Learning Center
UID:e.689.18598
SEQUENCE:3
DTSTAMP:20260423T181417Z
URL:https://business.goshen.org/events/details/field-trip-to-merry-lea-18598
END:VEVENT

END:VCALENDAR
