BEGIN:VCALENDAR
VERSION:2.0
PRODID:-//ChamberMaster//Event Calendar 2.0//EN
METHOD:PUBLISH
X-PUBLISHED-TTL:P3D
REFRESH-INTERVAL:P3D
CALSCALE:GREGORIAN
BEGIN:VEVENT
DTSTART:20160611T140000Z
DTEND:20160611T163000Z
X-MICROSOFT-CDO-ALLDAYEVENT:FALSE
SUMMARY:Fidler Pond Fantastic Fishing Derby!
DESCRIPTION:Calling all fishers! Bring your families\, fishing poles and bait to Fidler Pond Park to join us for our annual Fantastic Fishing Derby. Awards will be given for the first fish caught\, the smallest fish caught\, the largest fish caught and whatever else we can think of to award! No fishing license is required for adults (or children) during the event. When: Saturday\, June 11\; 10 am?12:30 pm Location: Fidler Pond Park Fee: $3/person Ages: Open to everyone! Register: Now through June 10 at the Goshen Parks Office --------------------------------------------------------- Goshen Parques y Recreaci n Anual Enfrentamiento Fant stico de Pesca: Cuando: Sabado 10am. Junio 11 Donde: Fidler Pond Park Tiempo: 10:00 am. ? 12:30 pm. Costo: solo $3 por persona Traiga sus polos y su carnada. Premios para la primera captura mas peque a y mas grande. Abierto para todos\; premios para las edades de 3-17. No licencia de pescar requerida para el evento. Diversi n para toda la Familia! Registro esta abierto ahora asta Junio 10. En la oficina de parques en Goshen - 607 West Plymouth Ave. Para mas informaci n llame : (574) 534-2901
X-ALT-DESC;FMTTYPE=text/html:Calling all fishers! Bring your families\, fishing poles and bait to Fidler Pond Park to join us for our annual Fantastic Fishing Derby. Awards will be given for the first fish caught\, the smallest fish caught\, the largest fish caught and whatever else we can think of to award! No fishing license is required for adults (or children) during the event. When: Saturday\, June 11\; 10 am?12:30 pm Location: Fidler Pond Park Fee: $3/person Ages: Open to everyone! Register: Now through June 10 at the Goshen Parks Office --------------------------------------------------------- Goshen Parques y Recreaci&oacute\;n Anual Enfrentamiento Fant&aacute\;stico de Pesca: Cuando: Sabado 10am. Junio 11 Donde: Fidler Pond Park Tiempo: 10:00 am. ? 12:30 pm. Costo: solo $3 por persona Traiga sus polos y su carnada. Premios para la primera captura mas peque&ntilde\;a y mas grande. Abierto para todos\; premios para las edades de 3-17. No licencia de pescar requerida para el evento. Diversi&oacute\;n para toda la Familia! Registro esta abierto ahora asta Junio 10. En la oficina de parques en Goshen - 607 West Plymouth Ave. Para mas informaci&oacute\;n llame : (574) 534-2901
LOCATION:Fidler Pond Park 1424 Lincolnway East in Goshen
UID:e.689.15232
SEQUENCE:3
DTSTAMP:20260426T040046Z
URL:https://business.goshen.org/events/details/fidler-pond-fantastic-fishing-derby-06-11-2016-15232
END:VEVENT

END:VCALENDAR
