BEGIN:VCALENDAR
VERSION:2.0
PRODID:-//ChamberMaster//Event Calendar 2.0//EN
METHOD:PUBLISH
X-PUBLISHED-TTL:P3D
REFRESH-INTERVAL:P3D
CALSCALE:GREGORIAN
BEGIN:VEVENT
DTSTART:20211016T160000Z
DTEND:20211016T220000Z
X-MICROSOFT-CDO-ALLDAYEVENT:FALSE
SUMMARY:Festival of Hope
DESCRIPTION:A family friendly\, free event at Pringle Park to bring awareness to the affordable healthcare and immigrant advocacy programs at Center for Healing & Hope. Food trucks\, live music\, cornhole tournament\, kids' activities\, COVID-19 vaccines\, and community resources from partner nonprofits. Festival of Hope is a celebration of culture\, community\, and resilience. Opportunities to donate to Center for Healing & Hope onsite and online at chhclinics.org/donate. Sign up for the cornhole tournament at https://chhclinics.networkforgood.com/events/34444-festival-of-hope-doubles-cornhole-tournament
X-ALT-DESC;FMTTYPE=text/html:A family friendly\, free event at Pringle Park to bring awareness to the affordable healthcare and immigrant advocacy programs at Center for Healing &amp\; Hope. Food trucks\, live music\, cornhole tournament\, kids&#39\; activities\, COVID-19 vaccines\, and community resources from partner nonprofits. Festival of Hope is a celebration of culture\, community\, and resilience. Opportunities to donate to Center for Healing &amp\; Hope onsite and online at chhclinics.org/donate. Sign up for the cornhole tournament at https://chhclinics.networkforgood.com/events/34444-festival-of-hope-doubles-cornhole-tournament
LOCATION:Pringle Park
UID:e.689.22692
SEQUENCE:3
DTSTAMP:20260421T132047Z
URL:https://business.goshen.org/events/details/festival-of-hope-22692
END:VEVENT

END:VCALENDAR
