BEGIN:VCALENDAR
VERSION:2.0
PRODID:-//ChamberMaster//Event Calendar 2.0//EN
METHOD:PUBLISH
X-PUBLISHED-TTL:P3D
REFRESH-INTERVAL:P3D
CALSCALE:GREGORIAN
BEGIN:VEVENT
DTSTART:20200811T150000Z
DTEND:20200811T160000Z
X-MICROSOFT-CDO-ALLDAYEVENT:FALSE
SUMMARY:Federal Issue update from the U.S. Chamber of Commerce
DESCRIPTION:Senior Members of the U.S. Chamber of Commerce will join us virtually to talk about a few important topics.  We will start off with an economic outlook\, then look at healthcare past 2021\, and then talk about infrastructure.  The agenda and a part of the speaker's bio is below.\n\n \n\n	\n		\n			Agenda:\n			 \n		\n		\n			 \n			 \n		\n		\n			11:00 a.m.   11:05 a.m. ET\n			Introduction\n\n			Goshen Chamber of Commerce\n		\n		\n			11:05 a.m.   11:20 a.m.  ET\n			Economic Outlook\n\n			Curtis Dubay\n\n			Senior Economist\n\n			Economic Policy \n\n			U.S. Chamber of Commerce\n		\n		\n			11:20 a.m.   11:40 a.m.  ET\n			Healthcare Policy: A Look to 2021\n\n			Katie Mahoney\n\n			Vice President\n\n			Health Policy\n\n			U.S. Chamber of Commerce\n		\n		\n			11:40 a.m.   11:55 a.m. ET\n			Infrastructure: Federal and State Outlook\n\n			Christina Lotspike\n\n			Executive Director\n\n			Congressional and Public Affairs\n\n			U.S. Chamber of Commerce\n		\n		\n			11:55 a.m.   12:00 p.m. ET\n			Closing Remarks\n\n			Goshen Chamber of Commerce\n		\n	\n\n\n\n\n\nPresenters Bio:\n\n\n\nCurtis Dubay is the Lead Economist at the U.S. Chamber of Commerce.Prior to that he was Senior Economist at the American Bankers Association and Research Fellow in Tax and Economic policy at The Heritage Foundation\n\n\n\nKatie W. Mahoney Vice President\, Health Policy  U.S. Chamber of Commerce. She rejoined the U.S. Chamber of Commerce in June 2010. Mahoney has 20 years of health care experience in hospital and health plan operations as well as health policy. She is responsible for developing\, advocating\, and publicizing the Chamber's policy on health and works with members of Congress\, the administration\, and regulatory agencies to promote the organization's health policy\n\n\n\nChristina Atchley\,  Executive Director\, Congressional and Public Affairs.  She is executive director of Congressional & Public Affairs at the U.S. Chamber of Commerce representing the business community before Congress and the administration on transportation infrastructure and technology issues
X-ALT-DESC;FMTTYPE=text/html:Senior Members of the U.S. Chamber of Commerce will join us virtually to talk about a few important topics.&nbsp\; We will start off with an economic outlook\, then look at healthcare past 2021\, and then talk about infrastructure.&nbsp\; The agenda and a part of the speaker&#39\;s bio is below.<br />\n&nbsp\;\n<table border="0" cellpadding="0" cellspacing="0" style="width:790px\;border-collapse:collapse\;" width="790">\n	<tbody>\n		<tr style="height:22px\;">\n			<td style="border:solid #CCCCCC 1.0pt\;padding:1.5pt 2.25pt 1.5pt 2.25pt\;height:22px\;vertical-align:bottom\;"><strong><em>Agenda:</em></strong></td>\n			<td style="border:solid #CCCCCC 1.0pt\;border-left:none\;padding:1.5pt 2.25pt 1.5pt 2.25pt\;height:22px\;vertical-align:bottom\;">&nbsp\;</td>\n		</tr>\n		<tr style="height:22px\;">\n			<td style="border:solid #CCCCCC 1.0pt\;border-top:none\;padding:1.5pt 2.25pt 1.5pt 2.25pt\;height:22px\;vertical-align:bottom\;">&nbsp\;</td>\n			<td style="border-top:none\;border-left:none\;border-bottom:solid #CCCCCC 1.0pt\;border-right:solid #CCCCCC 1.0pt\;padding:1.5pt 2.25pt 1.5pt 2.25pt\;height:22px\;vertical-align:bottom\;">&nbsp\;</td>\n		</tr>\n		<tr style="height:22px\;">\n			<td style="border:solid #CCCCCC 1.0pt\;border-top:none\;padding:1.5pt 2.25pt 1.5pt 2.25pt\;height:22px\;vertical-align:top\;"><strong><em>11:00 a.m. &ndash\; 11:05 a.m. ET</em></strong></td>\n			<td style="border-top:none\;border-left:none\;border-bottom:solid #CCCCCC 1.0pt\;border-right:solid #CCCCCC 1.0pt\;padding:1.5pt 2.25pt 1.5pt 2.25pt\;height:22px\;vertical-align:top\;"><strong><em>Introduction</em></strong><br />\n			<em>Goshen Chamber of Commerce</em></td>\n		</tr>\n		<tr style="height:22px\;">\n			<td style="border:solid #CCCCCC 1.0pt\;border-top:none\;padding:1.5pt 2.25pt 1.5pt 2.25pt\;height:22px\;vertical-align:top\;"><strong><em>11:05 a.m. &ndash\; 11:20 a.m.&nbsp\; ET</em></strong></td>\n			<td style="border-top:none\;border-left:none\;border-bottom:solid #CCCCCC 1.0pt\;border-right:solid #CCCCCC 1.0pt\;padding:1.5pt 2.25pt 1.5pt 2.25pt\;height:22px\;vertical-align:top\;"><strong><em>Economic Outlook</em></strong><br />\n			<em>Curtis Dubay<br />\n			Senior Economist</em><br />\n			<em>Economic Policy </em><br />\n			<em>U.S. Chamber of Commerce</em></td>\n		</tr>\n		<tr style="height:22px\;">\n			<td style="border:solid #CCCCCC 1.0pt\;border-top:none\;padding:1.5pt 2.25pt 1.5pt 2.25pt\;height:22px\;vertical-align:top\;"><strong><em>11:20 a.m. &ndash\; 11:40 a.m.&nbsp\; ET</em></strong></td>\n			<td style="border-top:none\;border-left:none\;border-bottom:solid #CCCCCC 1.0pt\;border-right:solid #CCCCCC 1.0pt\;padding:1.5pt 2.25pt 1.5pt 2.25pt\;height:22px\;vertical-align:top\;"><strong><em>Healthcare Policy: A Look to 2021</em></strong><br />\n			<em>Katie Mahoney</em><br />\n			<em>Vice President</em><br />\n			<em>Health Policy</em><br />\n			<em>U.S. Chamber of Commerce</em></td>\n		</tr>\n		<tr style="height:22px\;">\n			<td style="border:solid #CCCCCC 1.0pt\;border-top:none\;padding:1.5pt 2.25pt 1.5pt 2.25pt\;height:22px\;vertical-align:top\;"><strong><em>11:40 a.m. &ndash\; 11:55 a.m. ET</em></strong></td>\n			<td style="border-top:none\;border-left:none\;border-bottom:solid #CCCCCC 1.0pt\;border-right:solid #CCCCCC 1.0pt\;padding:1.5pt 2.25pt 1.5pt 2.25pt\;height:22px\;vertical-align:top\;"><strong><em>Infrastructure: Federal and State Outlook</em></strong><br />\n			<em>Christina Lotspike<br />\n			Executive Director</em><br />\n			<em>Congressional and Public Affairs</em><br />\n			<em>U.S. Chamber of Commerce</em></td>\n		</tr>\n		<tr style="height:22px\;">\n			<td style="border:solid #CCCCCC 1.0pt\;border-top:none\;padding:1.5pt 2.25pt 1.5pt 2.25pt\;height:22px\;vertical-align:top\;"><strong><em>11:55 a.m. &ndash\; 12:00 p.m. ET</em></strong></td>\n			<td style="border-top:none\;border-left:none\;border-bottom:solid #CCCCCC 1.0pt\;border-right:solid #CCCCCC 1.0pt\;padding:1.5pt 2.25pt 1.5pt 2.25pt\;height:22px\;vertical-align:top\;"><strong><em>Closing Remarks</em></strong><br />\n			<em>Goshen Chamber of Commerce</em></td>\n		</tr>\n	</tbody>\n</table>\n<br />\n<br />\n<span style="font-size:14px\;"><u><strong>Presenters Bio:</strong></u></span><br />\n<br />\n<strong>Curtis Dubay</strong> is the Lead Economist at the U.S. Chamber of Commerce.Prior to that he was Senior Economist at the American Bankers Association and Research Fellow in Tax and Economic policy at The Heritage Foundation<br />\n<br />\n<strong>Katie W. Mahoney</strong> Vice President\, Health Policy&nbsp\; U.S. Chamber of Commerce. She&nbsp\;rejoined the U.S. Chamber of Commerce in June 2010. Mahoney has 20 years of health care experience in hospital and health plan operations as well as health policy. She is responsible for developing\, advocating\, and publicizing the Chamber&rsquo\;s policy on health and works with members of Congress\, the administration\, and regulatory agencies to promote the organization&rsquo\;s health policy<br />\n<br />\n<strong>Christina Atchley\,&nbsp\;</strong> Executive Director\, Congressional and Public Affairs.&nbsp\; She is executive director of Congressional &amp\; Public Affairs at the U.S. Chamber of Commerce representing the business community before Congress and the administration on transportation infrastructure and technology issues
LOCATION:Virtual Chamber Office
UID:e.689.20987
SEQUENCE:3
DTSTAMP:20260422T113827Z
URL:https://business.goshen.org/events/details/federal-issue-update-from-the-u-s-chamber-of-commerce-20987
END:VEVENT

END:VCALENDAR
