BEGIN:VCALENDAR
VERSION:2.0
PRODID:-//ChamberMaster//Event Calendar 2.0//EN
METHOD:PUBLISH
X-PUBLISHED-TTL:P3D
REFRESH-INTERVAL:P3D
CALSCALE:GREGORIAN
BEGIN:VEVENT
DTSTART:20181002T170000Z
DTEND:20181002T200000Z
X-MICROSOFT-CDO-ALLDAYEVENT:FALSE
SUMMARY:Feature Films from Iran
DESCRIPTION:Be introduced to recent Iranian history and culture\; demonstrate the prominence of Iranian cinema in international circles\; and help us see the reality and appeal of Iran and Iranians\, despite the demonizing of the country in recent American politics. After a short introduction to the film and its director\, we will view and discuss the film. The four feature films we will view are: Children of Heaven\, The Lizard\, A Separation\, The Salesman. Ervin Beck\, Professor Emeritus of English at Goshen College\, and his wife Phyllis\, taught at the International Community School in Teheran\, Iran. This class is four days: Oct. 2\, 4\, 9 & 11. Register at http://life-learn.org/ or call 574-535-7566.
X-ALT-DESC;FMTTYPE=text/html:Be introduced to recent Iranian history and culture\; demonstrate the prominence of Iranian cinema in international circles\; and help us see the reality and appeal of Iran and Iranians\, despite the demonizing of the country in recent American politics. After a short introduction to the film and its director\, we will view and discuss the film. The four feature films we will view are: Children of Heaven\, The Lizard\, A Separation\, The Salesman. Ervin Beck\, Professor Emeritus of English at Goshen College\, and his wife Phyllis\, taught at the International Community School in Teheran\, Iran. This class is four days: Oct. 2\, 4\, 9 &amp\; 11. Register at http://life-learn.org/ or call 574-535-7566.
LOCATION:Greencroft Goshen Community Center\, 1820 Greencroft Blvd.
UID:e.689.17903
SEQUENCE:3
DTSTAMP:20260424T022341Z
URL:https://business.goshen.org/events/details/feature-films-from-iran-17903
END:VEVENT

END:VCALENDAR
