BEGIN:VCALENDAR
VERSION:2.0
PRODID:-//ChamberMaster//Event Calendar 2.0//EN
METHOD:PUBLISH
X-PUBLISHED-TTL:P3D
REFRESH-INTERVAL:P3D
CALSCALE:GREGORIAN
BEGIN:VEVENT
DTSTART:20170321T113000Z
DTEND:20170321T130000Z
X-MICROSOFT-CDO-ALLDAYEVENT:FALSE
SUMMARY:Fatherless Generation: Redeeming The Story
DESCRIPTION:On Tuesday\, March 21\, DJ Construction and the Community Foundation of Elkhart County will be hosting John Sowers at the Lerner Theatre. Sowers will share information\, offer practical insight and engage in discussion about how to best combat the fatherless epidemic that has gripped our community. Sowers is the author of Fatherless Generation: Redeeming the Story and The Heroic Path: In Search of the Masculine Heart. Gangs\, teenage pregnancy\, drug abuse\, suicide\, and other disturbing social trends are commonplace in today's culture. Why? Because so many children are fatherless\, says John Sowers. Blending cultural observations with statistics and testimonies\, he shows how intentional inter generational mentoring can offer hope to a new generation.
X-ALT-DESC;FMTTYPE=text/html:On Tuesday\, March 21\, DJ Construction and the Community Foundation of Elkhart County will be hosting John Sowers at the Lerner Theatre. Sowers will share information\, offer practical insight and engage in discussion about how to best combat the fatherless epidemic that has gripped our community. Sowers is the author of Fatherless Generation: Redeeming the Story and The Heroic Path: In Search of the Masculine Heart. Gangs\, teenage pregnancy\, drug abuse\, suicide\, and other disturbing social trends are commonplace in today&rsquo\;s culture. Why? Because so many children are fatherless\, says John Sowers. Blending cultural observations with statistics and testimonies\, he shows how intentional inter generational mentoring can offer hope to a new generation.
LOCATION:Sugar Grove Church 58512 Old County Rd 17 Goshen\, IN 46528
UID:e.689.16395
SEQUENCE:3
DTSTAMP:20260425T122521Z
URL:https://business.goshen.org/events/details/fatherless-generation-redeeming-the-story-16395
END:VEVENT

END:VCALENDAR
