BEGIN:VCALENDAR
VERSION:2.0
PRODID:-//ChamberMaster//Event Calendar 2.0//EN
METHOD:PUBLISH
X-PUBLISHED-TTL:P3D
REFRESH-INTERVAL:P3D
CALSCALE:GREGORIAN
BEGIN:VEVENT
DTSTART:20171214T230000Z
DTEND:20171215T010000Z
X-MICROSOFT-CDO-ALLDAYEVENT:FALSE
SUMMARY:Family Story Time with Santa
DESCRIPTION:Concord Mall Santa Set. Reservations/tickets must be made in advance by December 13.  Limited time slots available. Families are welcome to join Santa for a story and purchase professional photos.  Children are encouraged to come in their pajamas.\n\nTickets are available at Customer Service starting November 1.  Ticket Required.
X-ALT-DESC;FMTTYPE=text/html:Concord Mall Santa Set. Reservations/tickets must be made in advance by December 13.&nbsp\; Limited time slots available. Families are welcome to join Santa for a story and purchase professional photos.&nbsp\; Children are encouraged to come in their pajamas.<br />\nTickets are available at Customer Service starting November 1.&nbsp\; Ticket Required.
LOCATION:Concord Mall ?3701 S. Main Street ?Elkhart\, IN 46517 574-875-6502
UID:e.689.17610
SEQUENCE:3
DTSTAMP:20260424T231930Z
URL:https://business.goshen.org/events/details/family-story-time-with-santa-17610
END:VEVENT

END:VCALENDAR
