BEGIN:VCALENDAR
VERSION:2.0
PRODID:-//ChamberMaster//Event Calendar 2.0//EN
METHOD:PUBLISH
X-PUBLISHED-TTL:P3D
REFRESH-INTERVAL:P3D
CALSCALE:GREGORIAN
BEGIN:VEVENT
DTSTART:20160920T120000Z
DTEND:20160920T153000Z
X-MICROSOFT-CDO-ALLDAYEVENT:FALSE
SUMMARY:Family Business Succession - Not for the Faint of Heart
DESCRIPTION:Do you have the cart before the horse? Are you attempting to plan for ownership transfer of your family business before you have dealt with the difficult question of how the business will be managed? Succession is actually made up of two components: management succession and ownership succession. In the presentation\, you will learn the top challenges that face businesses and families as they transition ownership. Current owners will learn how to appropriately fill roles that will be vacated by their retirement. Next generation owners will learn how to propel the process along. Join other family businesses as we explore how to get the horse in front of the cart and what potholes to avoid once the horse is where it belongs.\n\n\n\nCome hear our guest speaker\, Ms. Barbara Dartt\, DVM\, MS\, consultant for The Family Business Consulting Group\, assisting businesses with succession strategies\, long-term planning\, management transitions and family governance implementation\, as well as other opportunities and challenges unique to family-owned businesses.
X-ALT-DESC;FMTTYPE=text/html:<div>\n<p>Do you have the cart before the horse? Are you attempting to plan for ownership transfer of your family business before you have dealt with the difficult question of how the business will be managed? Succession is actually made up of two components: management succession and ownership succession. In the presentation\, you will learn the top challenges that face businesses and families as they transition ownership. Current owners will learn how to appropriately fill roles that will be vacated by their retirement. Next generation owners will learn how to propel the process along. Join other family businesses as we explore how to get the horse in front of the cart and what potholes to avoid once the horse is where it belongs.<br />\n<br />\nCome hear our guest speaker\, Ms. Barbara Dartt\, DVM\, MS\, <span style="color: black\;">consultant for The Family Business Consulting Group\, assisting businesses with succession strategies\, long-term planning\, management transitions and family governance implementation\, as well as other opportunities and challenges unique to family-owned businesses.</span></p>\n</div>\n
LOCATION:Windsor Park Conference Center\, 4020 Edison Lakes Parkway\, Mishawaka\, IN
UID:e.689.16153
SEQUENCE:3
DTSTAMP:20260425T235014Z
URL:https://business.goshen.org/events/details/family-business-succession-not-for-the-faint-of-heart-09-20-2016-16153
END:VEVENT

END:VCALENDAR
