BEGIN:VCALENDAR
VERSION:2.0
PRODID:-//ChamberMaster//Event Calendar 2.0//EN
METHOD:PUBLISH
X-PUBLISHED-TTL:P3D
REFRESH-INTERVAL:P3D
CALSCALE:GREGORIAN
BEGIN:VEVENT
DTSTART:20211030T190000Z
DTEND:20211031T010000Z
X-MICROSOFT-CDO-ALLDAYEVENT:FALSE
SUMMARY:Fall Party
DESCRIPTION:Let's get together! Free and fun for the whole family! 3:00-6:30pm: FOOD: Hot dogs\, brats\, walking tacos\, and ice cream FUN: Bounce houses\, carnival games\, candy trail\, volleyball\, and pickleball GIVEAWAYS: Overnight stay at Oakwood Resort\, TV\, restaurant gift cards\, and more! 7pm: DRIVE-IN MOVIE NIGHT: "The LEGO Movie" Again admission is FREE! We just want to say a big\, "We LOVE you!" to our community! No need to signup. Just mark your calendar and we'll see you there!
X-ALT-DESC;FMTTYPE=text/html:Let&#39\;s get together! Free and fun for the whole family! 3:00-6:30pm: FOOD: Hot dogs\, brats\, walking tacos\, and ice cream FUN: Bounce houses\, carnival games\, candy trail\, volleyball\, and pickleball GIVEAWAYS: Overnight stay at Oakwood Resort\, TV\, restaurant gift cards\, and more! 7pm: DRIVE-IN MOVIE NIGHT: &quot\;The LEGO Movie&quot\; Again admission is FREE! We just want to say a big\, &quot\;We LOVE you!&quot\; to our community! No need to signup. Just mark your calendar and we&#39\;ll see you there!
LOCATION:Maple City Chapel 2015 Lincolnway East\, Goshen\, IN 46526
UID:e.689.22695
SEQUENCE:3
DTSTAMP:20260421T005708Z
URL:https://business.goshen.org/events/details/fall-party-22695
END:VEVENT

END:VCALENDAR
