BEGIN:VCALENDAR
VERSION:2.0
PRODID:-//ChamberMaster//Event Calendar 2.0//EN
METHOD:PUBLISH
X-PUBLISHED-TTL:P3D
REFRESH-INTERVAL:P3D
CALSCALE:GREGORIAN
BEGIN:VEVENT
DTSTART:20160820T123000Z
DTEND:20160821T033000Z
X-MICROSOFT-CDO-ALLDAYEVENT:FALSE
SUMMARY:Fall into Wellness
DESCRIPTION:Join us for a fun morning of activities for the whole family! There will be cooking demos\, free kids' ID cards\, health screenings\, games\, a bounce house\, prizes and more. Local organizations will also be present with information and activities. Ligonier Mayor\, Patty Fisel\, will kickoff a walk around Kenny Park at 8:30 am. Registration for the walk will begin at 8 am. Health screenings and assessments are first come first serve.  Adult diabetes risk assessment  Blood pressure screening  Body mass index  Bone density heel scan  Children's height and weight checks  Fasting cholesterol screening ($20)  Echocardiogram screening ($25)
X-ALT-DESC;FMTTYPE=text/html:Join us for a fun morning of activities for the whole family! There will be cooking demos\, free kids&rsquo\; ID cards\, health screenings\, games\, a bounce house\, prizes and more. Local organizations will also be present with information and activities. Ligonier Mayor\, Patty Fisel\, will kickoff a walk around Kenny Park at 8:30 am. Registration for the walk will begin at 8 am. Health screenings and assessments are first come first serve. &bull\;Adult diabetes risk assessment &bull\;Blood pressure screening &bull\;Body mass index &bull\;Bone density heel scan &bull\;Children&rsquo\;s height and weight checks &bull\;Fasting cholesterol screening ($20) &bull\;Echocardiogram screening ($25)
LOCATION:Ligonier Recreation Center 520 W. Union St.\, Ligonier\, IN 46767
UID:e.689.16150
SEQUENCE:3
DTSTAMP:20260425T233002Z
URL:https://business.goshen.org/events/details/fall-into-wellness-08-20-2016-16150
END:VEVENT

END:VCALENDAR
