BEGIN:VCALENDAR
VERSION:2.0
PRODID:-//ChamberMaster//Event Calendar 2.0//EN
METHOD:PUBLISH
X-PUBLISHED-TTL:P3D
REFRESH-INTERVAL:P3D
CALSCALE:GREGORIAN
BEGIN:VEVENT
DTSTART:20161008T140000Z
DTEND:20161008T230000Z
X-MICROSOFT-CDO-ALLDAYEVENT:FALSE
SUMMARY:Fall Crafts & More Show
DESCRIPTION:Artisans\, Crafters\, Home based businesses and more will be on site for this one day show. Interested parties may register on the Events page at www.ShopConcordMall.com
X-ALT-DESC;FMTTYPE=text/html:<div>Artisans\, Crafters\, Home based businesses and more will be on site for this one day show. Interested parties may register on the Events page at www.ShopConcordMall.com</div>\n
LOCATION:Concord Mall 3701 S. Main Street Elkhart\, IN 46517 574-875-6502
UID:e.689.16227
SEQUENCE:3
DTSTAMP:20260425T220342Z
URL:https://business.goshen.org/events/details/fall-crafts-more-show-16227
END:VEVENT

END:VCALENDAR
