BEGIN:VCALENDAR
VERSION:2.0
PRODID:-//ChamberMaster//Event Calendar 2.0//EN
METHOD:PUBLISH
X-PUBLISHED-TTL:P3D
REFRESH-INTERVAL:P3D
CALSCALE:GREGORIAN
BEGIN:VEVENT
DTSTART:20211027T150000Z
DTEND:20211031T210000Z
X-MICROSOFT-CDO-ALLDAYEVENT:FALSE
SUMMARY:Fair Trade Rug Sale
DESCRIPTION:Looking for the perfect piece to refresh the look of your home or office? Maybe needing to purchase that perfect milestone gift? A hand knotted rug would be perfect. You are seeking one with the quality to last a lifetime and the fair trade labor standards to ensure that you are shopping ethically. Rest assured: all of our rugs are hand knotted by fairly paid adults. Come and explore our large selection of Tribal\, Bokhara\, and Persian rugs during this special\, limited-time event. From classic to contemporary\, from sizes 2'x3' to 10'x14'\, and a large collection of of rounds\, squares\, and table runners\, we have the piece you're searching for! Get more info about the event as well as browse the inventory ahead of time and shop our gorgeous rugs all year round at https://rugs.tenthousandvillages.com
X-ALT-DESC;FMTTYPE=text/html:Looking for the perfect piece to refresh the look of your home or office? Maybe needing to purchase that perfect milestone gift? A hand knotted rug would be perfect. You are seeking one with the quality to last a lifetime and the fair trade labor standards to ensure that you are shopping ethically. Rest assured: all of our rugs are hand knotted by fairly paid adults. Come and explore our large selection of Tribal\, Bokhara\, and Persian rugs during this special\, limited-time event. From classic to contemporary\, from sizes 2&rsquo\;x3&rsquo\; to 10&rsquo\;x14&rsquo\;\, and a large collection of of rounds\, squares\, and table runners\, we have the piece you&rsquo\;re searching for! Get more info about the event as well as browse the inventory ahead of time and shop our gorgeous rugs all year round at https://rugs.tenthousandvillages.com
LOCATION:206 S. Main Street\, Goshen\, IN 46526
UID:e.689.22661
SEQUENCE:3
DTSTAMP:20260421T120338Z
URL:https://business.goshen.org/events/details/fair-trade-rug-sale-22661
END:VEVENT

END:VCALENDAR
