BEGIN:VCALENDAR
VERSION:2.0
PRODID:-//ChamberMaster//Event Calendar 2.0//EN
METHOD:PUBLISH
X-PUBLISHED-TTL:P3D
REFRESH-INTERVAL:P3D
CALSCALE:GREGORIAN
BEGIN:VEVENT
DTSTART:20180917T140000Z
DTEND:20180917T153000Z
X-MICROSOFT-CDO-ALLDAYEVENT:FALSE
SUMMARY:Exploring Celtic Christan Paths and Practices
DESCRIPTION:Celtic Christian spirituality is a way of following Jesus that intentionally cultivates a lifestyle patterned after 5th and 6th century disciples living in Ireland\, Scotland\, Wales and England. As an experienced pilgrim guide and spiritual director\, Willard Roth will introduce some of these saints\, the paths they pursued\, and the practices they invite 21st century followers of Jesus to ponder. We   ll look at contemporary communities who are seeking to incarnate the Celtic way of linking earth with heaven through head\, heart\, and soul. Sessions will be enriched with poems\, prayers\, music and visual art. Willard Roth has served as a writer and pastor. This class is four days: Sept. 17\, 19\, 24 & 26. Register at http://life-learn.org/ or call 574-535-7566.
X-ALT-DESC;FMTTYPE=text/html:Celtic Christian spirituality is a way of following Jesus that intentionally cultivates a lifestyle patterned after 5th and 6th century disciples living in Ireland\, Scotland\, Wales and England. As an experienced pilgrim guide and spiritual director\, Willard Roth will introduce some of these saints\, the paths they pursued\, and the practices they invite 21st century followers of Jesus to ponder. We&acirc\;&euro\;&trade\;ll look at contemporary communities who are seeking to incarnate the Celtic way of linking earth with heaven through head\, heart\, and soul. Sessions will be enriched with poems\, prayers\, music and visual art. Willard Roth has served as a writer and pastor. This class is four days: Sept. 17\, 19\, 24 &amp\; 26. Register at http://life-learn.org/ or call 574-535-7566.
LOCATION:Greencroft Goshen Community Center\, 1820 Greencroft Blvd.
UID:e.689.17901
SEQUENCE:3
DTSTAMP:20260424T044747Z
URL:https://business.goshen.org/events/details/exploring-celtic-christan-paths-and-practices-17901
END:VEVENT

END:VCALENDAR
