BEGIN:VCALENDAR
VERSION:2.0
PRODID:-//ChamberMaster//Event Calendar 2.0//EN
METHOD:PUBLISH
X-PUBLISHED-TTL:P3D
REFRESH-INTERVAL:P3D
CALSCALE:GREGORIAN
BEGIN:VEVENT
DTSTART:20160507T120000Z
DTEND:20160507T120000Z
X-MICROSOFT-CDO-ALLDAYEVENT:FALSE
SUMMARY:Event: David?s Run for Autism
DESCRIPTION:Help spread awareness of autism by joining in the 5K run/walk and decorating a balloon in recognition of a loved one on the spectrum. David?s Run is part of ADEC's Light the Way for Autism Awareness. Register at https://RUNSIGNUP.COM/RACE/IN/NAPPANEE/DAVIDSRUNFOR AUTISM
X-ALT-DESC;FMTTYPE=text/html:Help spread awareness of autism by joining in the 5K run/walk and decorating a balloon in recognition of a loved one on the spectrum. David?s Run is part of ADEC&#39\;s Light the Way for Autism Awareness. Register at https://RUNSIGNUP.COM/RACE/IN/NAPPANEE/DAVIDSRUNFOR AUTISM
LOCATION:Location: Nappanee Elementary School\, 755 E. Van Buren St.\, Nappanee\, Indiana 46550
UID:e.689.15889
SEQUENCE:3
DTSTAMP:20260426T035646Z
URL:https://business.goshen.org/events/details/event-david-s-run-for-autism-05-07-2016-15889
END:VEVENT

END:VCALENDAR
