BEGIN:VCALENDAR
VERSION:2.0
PRODID:-//ChamberMaster//Event Calendar 2.0//EN
METHOD:PUBLISH
X-PUBLISHED-TTL:P3D
REFRESH-INTERVAL:P3D
CALSCALE:GREGORIAN
BEGIN:VEVENT
DTSTART:20180801T200000Z
DTEND:20180829T230000Z
X-MICROSOFT-CDO-ALLDAYEVENT:FALSE
SUMMARY:Empowerment (c)Rocks
DESCRIPTION:Centier\, United Way of Elkhart County\, and Elkhart Public Library have teamed up for an empowerment series. Every Wednesday in August at 4 and 6 p.m.\, there will be a program designed to help people get empowered on topics such as home repair\, budgeting\, cooking and more. The purpose of this series to help people improve their basic life skills and pick up new ones. It's never too late for self-improvement. With attendance at all five sessions\, eligible attendees will receive a brand new slow cooker courtesy of the United Way of Elkhart County and be entered to win $50 from Centier Bank.
X-ALT-DESC;FMTTYPE=text/html:Centier\, United Way of Elkhart County\, and Elkhart Public Library have teamed up for an empowerment series. Every Wednesday in August at 4 and 6 p.m.\, there will be a program designed to help people get empowered on topics such as home repair\, budgeting\, cooking and more. The purpose of this series to help people improve their basic life skills and pick up new ones. It&rsquo\;s never too late for self-improvement. With attendance at all five sessions\, eligible attendees will receive a brand new slow cooker courtesy of the United Way of Elkhart County and be entered to win $50 from Centier Bank.
LOCATION:Elkhart Public Library-Downtown-300 S. 2nd Street Elkhart\, Indiana
UID:e.689.17893
SEQUENCE:3
DTSTAMP:20260424T071150Z
URL:https://business.goshen.org/events/details/empowerment-c-rocks-17893
END:VEVENT

END:VCALENDAR
