BEGIN:VCALENDAR
VERSION:2.0
PRODID:-//ChamberMaster//Event Calendar 2.0//EN
METHOD:PUBLISH
X-PUBLISHED-TTL:P3D
REFRESH-INTERVAL:P3D
CALSCALE:GREGORIAN
BEGIN:VEVENT
DTSTART:20190405T040000Z
DTEND:20190406T035500Z
X-MICROSOFT-CDO-ALLDAYEVENT:FALSE
SUMMARY:Elkhart Wears Blue
DESCRIPTION:Last year there were 450 substantiated cases of child abuse and neglect in Elkhart County. Let's reduce those numbers even further by creating an awareness. April 5 is designated the official Elkhart Wears Blue day. You can wear blue or display blue balloons or ribbons at your place of business. April is also National Child Abuse Prevention Month. Visit CAPS on Facebook or at www.capselkhart.org for regular updates.
X-ALT-DESC;FMTTYPE=text/html:Last year there were 450 substantiated cases of child abuse and neglect in Elkhart County. Let&#39\;s reduce those numbers even further by creating an awareness. April 5 is designated the official Elkhart Wears Blue day. You can wear blue or display blue balloons or ribbons at your place of business. April is also National Child Abuse Prevention Month. Visit CAPS on Facebook or at www.capselkhart.org for regular updates.
LOCATION:Community-wide
UID:e.689.19212
SEQUENCE:3
DTSTAMP:20260423T181211Z
URL:https://business.goshen.org/events/details/elkhart-wears-blue-19212
END:VEVENT

END:VCALENDAR
