BEGIN:VCALENDAR
VERSION:2.0
PRODID:-//ChamberMaster//Event Calendar 2.0//EN
METHOD:PUBLISH
X-PUBLISHED-TTL:P3D
REFRESH-INTERVAL:P3D
CALSCALE:GREGORIAN
BEGIN:VEVENT
DTSTART:20171223T200000Z
DTEND:20171223T210000Z
X-MICROSOFT-CDO-ALLDAYEVENT:FALSE
SUMMARY:Elkhart Salvation Army Brass Choir
DESCRIPTION:The Elkhart Salvation Army Brass Choir Conducted by Gerald F. Knipfel will be here to perform beautiful Christmas music.
X-ALT-DESC;FMTTYPE=text/html:The Elkhart Salvation Army Brass Choir Conducted by Gerald F. Knipfel will be here to perform beautiful Christmas music.
LOCATION:Concord Mall 3701 S. Main Street Elkhart\, IN 46517 574-875-6502
UID:e.689.17611
SEQUENCE:3
DTSTAMP:20260424T215142Z
URL:https://business.goshen.org/events/details/elkhart-salvation-army-brass-choir-17611
END:VEVENT

END:VCALENDAR
