BEGIN:VCALENDAR
VERSION:2.0
PRODID:-//ChamberMaster//Event Calendar 2.0//EN
METHOD:PUBLISH
X-PUBLISHED-TTL:P3D
REFRESH-INTERVAL:P3D
CALSCALE:GREGORIAN
BEGIN:VEVENT
DTSTART:20170415T120000Z
DTEND:20170416T000000Z
X-MICROSOFT-CDO-ALLDAYEVENT:FALSE
SUMMARY:Elkhart River Canoe Trip and Fidler Pond Boat Rentals
DESCRIPTION:Take a canoe trip on the Elkhart River or enjoy Fidler Pond with a canoe\, kayak or pedal boat. Lifejackets are provided for ages 4 and up (not recommended for children ages 3 and under). An adult must accompany children ages 8 and younger in the boat. Maximum capacity per canoe: two adults and two children\, or three adults. Season: April 15 October 15   Plan accordingly! Please take note of the water currents\, obstructions and weather.   Glass containers are prohibited.   Please do not litter. Pack it in\, pack it out! Fidler Pond Boat Rentals   Visit the red barn at Fidler Pond Park\, 1424 Lincolnway East\, for your boat rentals.   Rentals offered daily beginning at 8 am\; all boat returns are one hour prior to dusk\, so please plan accordingly. Fidler Pond Boat Rental Fees   Canoe\, kayak and pedal boat rental fees are $10 (tax included) per hour per boat.   Fishing pole rental (for bank fishing) is $2/2 hours.   Lifejackets are mandatory while on Fidler Pond\; if you bring your own canoe or kayak and need a lifejacket\, rental is $2/2 hours. Elkhart River Canoe Trip   Goshen Parks Department Administration Office on West Plymouth Avenue to Ox Bow County Park.   Trip length is approximately four hours.   Canoe trip is offered daily: 10 am departure\, 2 pm pickup.   Shuttle service is provided from Ox Bow Park back to Administration Office. Parents must supply car/booster seats for children.   Visit the Goshen Parks Department Administration Office 48 hours in advance to make your Elkhart River canoeing reservations. Elkhart River Canoe Rental Fees   Rental fee is $20 + tax per canoe.   Deposit is $20 per canoe + valid driver's license. Call the Park Office at (574) 53-2901 for more information
X-ALT-DESC;FMTTYPE=text/html:Take a canoe trip on the Elkhart River or enjoy Fidler Pond with a canoe\, kayak or pedal boat. Lifejackets are provided for ages 4 and up (not recommended for children ages 3 and under). An adult must accompany children ages 8 and younger in the boat. Maximum capacity per canoe: two adults and two children\, or three adults. Season: April 15&ndash\;October 15 &bull\; Plan accordingly! Please take note of the water currents\, obstructions and weather. &bull\; Glass containers are prohibited. &bull\; Please do not litter. Pack it in\, pack it out! Fidler Pond Boat Rentals &bull\; Visit the red barn at Fidler Pond Park\, 1424 Lincolnway East\, for your boat rentals. &bull\; Rentals offered daily beginning at 8 am\; all boat returns are one hour prior to dusk\, so please plan accordingly. Fidler Pond Boat Rental Fees &bull\; Canoe\, kayak and pedal boat rental fees are $10 (tax included) per hour per boat. &bull\; Fishing pole rental (for bank fishing) is $2/2 hours. &bull\; Lifejackets are mandatory while on Fidler Pond\; if you bring your own canoe or kayak and need a lifejacket\, rental is $2/2 hours. Elkhart River Canoe Trip &bull\; Goshen Parks Department Administration Office on West Plymouth Avenue to Ox Bow County Park. &bull\; Trip length is approximately four hours. &bull\; Canoe trip is offered daily: 10 am departure\, 2 pm pickup. &bull\; Shuttle service is provided from Ox Bow Park back to Administration Office. Parents must supply car/booster seats for children. &bull\; Visit the Goshen Parks Department Administration Office 48 hours in advance to make your Elkhart River canoeing reservations. Elkhart River Canoe Rental Fees &bull\; Rental fee is $20 + tax per canoe. &bull\; Deposit is $20 per canoe + valid driver&rsquo\;s license. Call the Park Office at (574) 53-2901 for more information
LOCATION:
UID:e.689.16614
SEQUENCE:3
DTSTAMP:20260425T104511Z
URL:https://business.goshen.org/events/details/elkhart-river-canoe-trip-and-fidler-pond-boat-rentals-16614
END:VEVENT

END:VCALENDAR
