BEGIN:VCALENDAR
VERSION:2.0
PRODID:-//ChamberMaster//Event Calendar 2.0//EN
METHOD:PUBLISH
X-PUBLISHED-TTL:P3D
REFRESH-INTERVAL:P3D
CALSCALE:GREGORIAN
BEGIN:VEVENT
DTSTART:20170912T220000Z
DTEND:20170913T010000Z
X-MICROSOFT-CDO-ALLDAYEVENT:FALSE
SUMMARY:Elkhart Republican - Large Conference
DESCRIPTION:see nick
X-ALT-DESC;FMTTYPE=text/html:see nick
LOCATION:
UID:e.689.16870
SEQUENCE:3
DTSTAMP:20260425T023301Z
URL:https://business.goshen.org/events/details/elkhart-republican-large-conference-16870
END:VEVENT

END:VCALENDAR
