BEGIN:VCALENDAR
VERSION:2.0
PRODID:-//ChamberMaster//Event Calendar 2.0//EN
METHOD:PUBLISH
X-PUBLISHED-TTL:P3D
REFRESH-INTERVAL:P3D
CALSCALE:GREGORIAN
BEGIN:VEVENT
DTSTART:20220515T200000Z
DTEND:20220515T230000Z
X-MICROSOFT-CDO-ALLDAYEVENT:FALSE
SUMMARY:Elkhart County Symphony Presents: “New Directions\, New Possibilities”
DESCRIPTION:Get ready to jump into our final concert of the season as we welcome local artists The Tumbleweed Jumpers to The Lerner Theatre stage for a collaboration in "New Directions\, New Possibilities!" Beethoven's classic Symphony No. 5 opens a program that transforms into a celebration of music and collaboration in concert with The Tumbleweed Jumpers. To conclude our 2021-2022 season\, we will perform Ottorino Respighi's The Pines of Rome.
X-ALT-DESC;FMTTYPE=text/html:Get ready to jump into our final concert of the season as we welcome local artists The Tumbleweed Jumpers to The Lerner Theatre stage for a collaboration in &ldquo\;New Directions\, New Possibilities!&rdquo\; Beethoven&rsquo\;s classic Symphony No. 5 opens a program that transforms into a celebration of music and collaboration in concert with The Tumbleweed Jumpers. To conclude our 2021-2022 season\, we will perform Ottorino Respighi&rsquo\;s The Pines of Rome.
LOCATION:The Lerner Theatre 410 South Main Street Elkhart\, IN 46516
UID:e.689.23766
SEQUENCE:3
DTSTAMP:20260423T232406Z
URL:https://business.goshen.org/events/details/elkhart-county-symphony-presents-new-directions-new-possibilities-23766
END:VEVENT

END:VCALENDAR
