BEGIN:VCALENDAR
VERSION:2.0
PRODID:-//ChamberMaster//Event Calendar 2.0//EN
METHOD:PUBLISH
X-PUBLISHED-TTL:P3D
REFRESH-INTERVAL:P3D
CALSCALE:GREGORIAN
BEGIN:VEVENT
DTSTART:20180301T170000Z
DTEND:20180531T160000Z
X-MICROSOFT-CDO-ALLDAYEVENT:FALSE
SUMMARY:Elkhart County Spring Birding Challenge
DESCRIPTION:Birders of all experience levels (beginner\, experienced\, advanced) are invited to create a team for some friendly competition this spring. Each birding team (2-4 adults and any number of kids) will work together to find as many birds as they can within Elkhart County from March 1   May 31. The challenge will conclude with a pizza party\, photo show and cheers for all participants. Cost is $10/team and all sightings will be recorded on a shared google sheet. Call 574-535-6458 by March 31 to register.
X-ALT-DESC;FMTTYPE=text/html:Birders of all experience levels (beginner\, experienced\, advanced) are invited to create a team for some friendly competition this spring. Each birding team (2-4 adults and any number of kids) will work together to find as many birds as they can within Elkhart County from March 1 &ndash\; May 31. The challenge will conclude with a pizza party\, photo show and cheers for all participants. Cost is $10/team and all sightings will be recorded on a shared google sheet. Call 574-535-6458 by March 31 to register.
LOCATION:Throughout Elkhart County
UID:e.689.17738
SEQUENCE:3
DTSTAMP:20260424T133903Z
URL:https://business.goshen.org/events/details/elkhart-county-spring-birding-challenge-17738
END:VEVENT

END:VCALENDAR
