BEGIN:VCALENDAR
VERSION:2.0
PRODID:-//ChamberMaster//Event Calendar 2.0//EN
METHOD:PUBLISH
X-PUBLISHED-TTL:P3D
REFRESH-INTERVAL:P3D
CALSCALE:GREGORIAN
BEGIN:VEVENT
DTSTART:20170120T000000Z
DTEND:20170120T010000Z
X-MICROSOFT-CDO-ALLDAYEVENT:FALSE
SUMMARY:Elkhart County's Top 10 Moments in History: #5-1
DESCRIPTION:Do you think you know the biggest moment in Elkhart County history? Come find out what the staff at the museum think it is\, and why that and other pivotal moments have shaped what Elkhart County is today.
X-ALT-DESC;FMTTYPE=text/html:Do you think you know the biggest moment in Elkhart County history? Come find out what the staff at the museum think it is\, and why that and other pivotal moments have shaped what Elkhart County is today.
LOCATION:Elkhart County Historical Museum- 304 W. Vistula St.\, Bristol\, IN 46507
UID:e.689.16207
SEQUENCE:3
DTSTAMP:20260425T154755Z
URL:https://business.goshen.org/events/details/elkhart-county-s-top-10-moments-in-history-5-1-16207
END:VEVENT

END:VCALENDAR
