BEGIN:VCALENDAR
VERSION:2.0
PRODID:-//ChamberMaster//Event Calendar 2.0//EN
METHOD:PUBLISH
X-PUBLISHED-TTL:P3D
REFRESH-INTERVAL:P3D
CALSCALE:GREGORIAN
BEGIN:VEVENT
DTSTART:20161209T000000Z
DTEND:20161209T010000Z
X-MICROSOFT-CDO-ALLDAYEVENT:FALSE
SUMMARY:Elkhart County's Top 10 Moments in History: #10-6
DESCRIPTION:With Indiana celebrating its 200th birthday\, we are looking over the history of Elkhart County and determining the 10 moments that most impacted our community's history. In the first of a two part- event\, find out moments 10 through 6\, and let the debate begin!
X-ALT-DESC;FMTTYPE=text/html:With Indiana celebrating its 200th birthday\, we are looking over the history of Elkhart County and determining the 10 moments that most impacted our community&rsquo\;s history. In the first of a two part- event\, find out moments 10 through 6\, and let the debate begin!
LOCATION:Elkhart County Historical Museum- 304 W. Vistula St.\, Bristol\, IN 46507
UID:e.689.16206
SEQUENCE:3
DTSTAMP:20260425T174022Z
URL:https://business.goshen.org/events/details/elkhart-county-s-top-10-moments-in-history-10-6-16206
END:VEVENT

END:VCALENDAR
