BEGIN:VCALENDAR
VERSION:2.0
PRODID:-//ChamberMaster//Event Calendar 2.0//EN
METHOD:PUBLISH
X-PUBLISHED-TTL:P3D
REFRESH-INTERVAL:P3D
CALSCALE:GREGORIAN
BEGIN:VEVENT
DTSTART:20170201T164500Z
DTEND:20170201T180000Z
X-MICROSOFT-CDO-ALLDAYEVENT:FALSE
SUMMARY:Elkhart County Estate Planning Council luncheon
DESCRIPTION:The Elkhart County Estate Planning Council meets 4 times a year. All professional advisers in Elkhart County are encouraged to join the group or attend the quarterly events. In February\, Rich Urda\, President of Urda Professional Corporation\, will be provide an update on digital assets\, specifically the Indiana and Michigan implications. As our lives are becoming more and more digital\, whether its e-mail\, photos\, music\, social media\, or storage in the cloud\, we all have digital assets. What happens to these assets when we pass away? How can we help clients dispose of their digital assets in their estate plan?
X-ALT-DESC;FMTTYPE=text/html:The Elkhart County Estate Planning Council meets 4 times a year. All professional advisers in Elkhart County are encouraged to join the group or attend the quarterly events. In February\, Rich Urda\, President of Urda Professional Corporation\, will be provide an update on digital assets\, specifically the Indiana and Michigan implications. As our lives are becoming more and more digital\, whether its e-mail\, photos\, music\, social media\, or storage in the cloud\, we all have digital assets. What happens to these assets when we pass away? How can we help clients dispose of their digital assets in their estate plan?
LOCATION:Ivy Tech Community Center 22531 County Road 18 Goshen\, IN 46567
UID:e.689.16392
SEQUENCE:3
DTSTAMP:20260425T154755Z
URL:https://business.goshen.org/events/details/elkhart-county-estate-planning-council-luncheon-16392
END:VEVENT

END:VCALENDAR
