BEGIN:VCALENDAR
VERSION:2.0
PRODID:-//ChamberMaster//Event Calendar 2.0//EN
METHOD:PUBLISH
X-PUBLISHED-TTL:P3D
REFRESH-INTERVAL:P3D
CALSCALE:GREGORIAN
BEGIN:VEVENT
DTSTART:20170301T230000Z
DTEND:20170302T010000Z
X-MICROSOFT-CDO-ALLDAYEVENT:FALSE
SUMMARY:Elephant in the Room Series
DESCRIPTION:Immigration\n\n\n\nQuestions about immigration\, DACA\, or about any of the Immigration processes?\n\n\n\nNow is your chance to ask.\n\n\n\nAttorneys from the Indiana Latino Bar Associations will be available to answer questions and  provide information.\n\n\n\nJoin us in this family friendly event.
X-ALT-DESC;FMTTYPE=text/html:<strong>Immigration</strong><br />\n<br />\nQuestions about immigration\, DACA\, or about any of the Immigration processes?<br />\n<br />\nNow is your chance to ask.<br />\n<br />\nAttorneys from the Indiana Latino Bar Associations will be available to answer questions and&nbsp\; provide information.<br />\n<br />\nJoin us in this family friendly event.<br />\n&nbsp\;
LOCATION:Ivy Tech Community College Ivy Tech Community Center 22531 County Road 18 Goshen\, IN 46528
UID:e.689.16693
SEQUENCE:3
DTSTAMP:20260425T140852Z
URL:https://business.goshen.org/events/details/elephant-in-the-room-series-16693
END:VEVENT

END:VCALENDAR
