BEGIN:VCALENDAR
VERSION:2.0
PRODID:-//ChamberMaster//Event Calendar 2.0//EN
METHOD:PUBLISH
X-PUBLISHED-TTL:P3D
REFRESH-INTERVAL:P3D
CALSCALE:GREGORIAN
BEGIN:VEVENT
DTSTART:20241029T120000Z
DTEND:20241029T133000Z
X-MICROSOFT-CDO-ALLDAYEVENT:FALSE
SUMMARY:Eggs & Issues Education and Business - Connecting to New Pathways
DESCRIPTION:Join us on Tuesday\, October 29th for Eggs & Issues on Education and Business - Connecting to New Pathways.  Hear from State Legislators\, School Officials\, and Business Leaders on the new diploma requirements and how the business community can help.  This fireside chat over breakfast will be very informative.
X-ALT-DESC;FMTTYPE=text/html:Join us on Tuesday\, October 29th for Eggs &amp\; Issues on Education and Business - Connecting to New Pathways.&nbsp\; Hear from State Legislators\, School Officials\, and Business Leaders on the new diploma requirements and how the business community can help.&nbsp\; This fireside chat over breakfast will be very informative.&nbsp\;<br />\n<br />\n&nbsp\;
LOCATION:Maplecrest Country Club 611 Hackett Rd Goshen\, IN 46528
UID:e.689.25448
SEQUENCE:3
DTSTAMP:20260423T090859Z
URL:https://business.goshen.org/events/details/eggs-issues-education-and-business-connecting-to-new-pathways-25448
END:VEVENT

END:VCALENDAR
