BEGIN:VCALENDAR
VERSION:2.0
PRODID:-//ChamberMaster//Event Calendar 2.0//EN
METHOD:PUBLISH
X-PUBLISHED-TTL:P3D
REFRESH-INTERVAL:P3D
CALSCALE:GREGORIAN
BEGIN:VEVENT
DTSTART:20180929T170000Z
DTEND:20180930T000000Z
X-MICROSOFT-CDO-ALLDAYEVENT:FALSE
SUMMARY:Eby's 65th anniversary
DESCRIPTION:Eby's Skating Rink is celebrating 65 years! Come and celebrate with us on Saturday\, September 29th from 1 to 8pm. We have many exciting things planned: face-painting\, exotic animals\, coloring contest\, pie eating contest\, hay ride\,1950's themed giveaways & cake. Skating admission is only $0.65 (skate rental is extra) for 3 hours! Check out our website for more info: www.ebysfamilyfun.com.
X-ALT-DESC;FMTTYPE=text/html:Eby&#39\;s Skating Rink is celebrating 65 years! Come and celebrate with us on Saturday\, September 29th from 1 to 8pm. We have many exciting things planned: face-painting\, exotic animals\, coloring contest\, pie eating contest\, hay ride\,1950&rsquo\;s themed giveaways &amp\; cake. Skating admission is only $0.65 (skate rental is extra) for 3 hours! Check out our website for more info: www.ebysfamilyfun.com.
LOCATION:Eby's Family Fun 14583 SR 120 Bristol\, IN 46507
UID:e.689.18232
SEQUENCE:3
DTSTAMP:20260424T044753Z
URL:https://business.goshen.org/events/details/eby-s-65th-anniversary-18232
END:VEVENT

END:VCALENDAR
