BEGIN:VCALENDAR
VERSION:2.0
PRODID:-//ChamberMaster//Event Calendar 2.0//EN
METHOD:PUBLISH
X-PUBLISHED-TTL:P3D
REFRESH-INTERVAL:P3D
CALSCALE:GREGORIAN
BEGIN:VEVENT
DTSTART:20170408T163000Z
DTEND:20170408T180000Z
X-MICROSOFT-CDO-ALLDAYEVENT:FALSE
SUMMARY:Easter Bunny Arrival Celebration
DESCRIPTION:12:30 KALITA\, Master of Magic Show\n\n\n\n1:00p Easter Bunny Arrival\n\n\n\n1:30p Bad Entertainment Dance Team to perform
X-ALT-DESC;FMTTYPE=text/html:<div>\n<div>\n<div>12:30 KALITA\, Master of Magic Show</div>\n</div>\n\n<div>\n<div>1:00p Easter Bunny Arrival</div>\n</div>\n\n<div>\n<div>1:30p Bad Entertainment Dance Team to perform</div>\n</div>\n</div>\n
LOCATION:Concord Mall 3701 S. Main Street Elkhart\, IN 46517 574-875-6502
UID:e.689.16740
SEQUENCE:3
DTSTAMP:20260425T122212Z
URL:https://business.goshen.org/events/details/easter-bunny-arrival-celebration-16740
END:VEVENT

END:VCALENDAR
