BEGIN:VCALENDAR
VERSION:2.0
PRODID:-//ChamberMaster//Event Calendar 2.0//EN
METHOD:PUBLISH
X-PUBLISHED-TTL:P3D
REFRESH-INTERVAL:P3D
CALSCALE:GREGORIAN
BEGIN:VEVENT
DTSTART:20161113T170000Z
DTEND:20161113T210000Z
X-MICROSOFT-CDO-ALLDAYEVENT:FALSE
SUMMARY:Downtown Goshen Holiday Open House
DESCRIPTION:
X-ALT-DESC;FMTTYPE=text/html:
LOCATION:
UID:e.689.15194
SEQUENCE:3
DTSTAMP:20260425T190524Z
URL:https://business.goshen.org/events/details/downtown-goshen-holiday-open-house-11-13-2016-15194
END:VEVENT

END:VCALENDAR
