BEGIN:VCALENDAR
VERSION:2.0
PRODID:-//ChamberMaster//Event Calendar 2.0//EN
METHOD:PUBLISH
X-PUBLISHED-TTL:P3D
REFRESH-INTERVAL:P3D
CALSCALE:GREGORIAN
BEGIN:VEVENT
DTSTART:20170422T133000Z
DTEND:20170422T160000Z
X-MICROSOFT-CDO-ALLDAYEVENT:FALSE
SUMMARY:Donut Run
DESCRIPTION:Join us for the Donut Run\, a 10K Run & 5K Run/Walk. Bring your running shoes & your appetite for this event! This year we are having a DONUT RUN! Yes\, that's right a donut run .all you can eat donuts (provided by Das Dutchman Essenhaus) and loads of family fun. All this fun while raising money for Ryan's Place\; to provide support to grieving children\, teens and their families. Bring your entire family to this year's event and be prepared to get a few "sprinkles" along the way (candy sprinkles that is). Register online at http://ryansplace.org/ryans-place-events/#ryans-run
X-ALT-DESC;FMTTYPE=text/html:Join us for the Donut Run\, a 10K Run &amp\; 5K Run/Walk. Bring your running shoes &amp\; your appetite for this event! This year we are having a DONUT RUN! Yes\, that&rsquo\;s right a donut run&hellip\;.all you can eat donuts (provided by Das Dutchman Essenhaus) and loads of family fun. All this fun while raising money for Ryan&rsquo\;s Place\; to provide support to grieving children\, teens and their families. Bring your entire family to this year&rsquo\;s event and be prepared to get a few &ldquo\;sprinkles&rdquo\; along the way (candy sprinkles that is). Register online at http://ryansplace.org/ryans-place-events/#ryans-run
LOCATION:St. Paul's Lutheran Church 708 Wayne St. Middlebury IN\, 46540
UID:e.689.16769
SEQUENCE:3
DTSTAMP:20260425T122049Z
URL:https://business.goshen.org/events/details/donut-run-16769
END:VEVENT

END:VCALENDAR
