BEGIN:VCALENDAR
VERSION:2.0
PRODID:-//ChamberMaster//Event Calendar 2.0//EN
METHOD:PUBLISH
X-PUBLISHED-TTL:P3D
REFRESH-INTERVAL:P3D
CALSCALE:GREGORIAN
BEGIN:VEVENT
DTSTART:20211007T230000Z
DTEND:20211008T003000Z
X-MICROSOFT-CDO-ALLDAYEVENT:FALSE
SUMMARY:Discovering Voices Together
DESCRIPTION:Explore the newly-released Mennonite hymnal\, Voices Together\, a resource full of songs and worship materials from around the world and across the centuries. What does it mean for a single book to serve a diverse denomination across the US and Canada? How were songs\, prayers\, readings\, and even visual art\, chosen to be included? Come prepared to sing new songs\, as well as to learn something new about old favorites. Adam Tice\, text editor of the hymnal\, will guide the class. Project director Bradley Kauffman will also join in leading one session.
X-ALT-DESC;FMTTYPE=text/html:Explore the newly-released Mennonite hymnal\, Voices Together\, a resource full of songs and worship materials from around the world and across the centuries. What does it mean for a single book to serve a diverse denomination across the US and Canada? How were songs\, prayers\, readings\, and even visual art\, chosen to be included? Come prepared to sing new songs\, as well as to learn something new about old favorites. Adam Tice\, text editor of the hymnal\, will guide the class. Project director Bradley Kauffman will also join in leading one session.
LOCATION:Greencroft Goshen Community Center
UID:e.689.22611
SEQUENCE:3
DTSTAMP:20260421T113814Z
URL:https://business.goshen.org/events/details/discovering-voices-together-22611
END:VEVENT

END:VCALENDAR
