BEGIN:VCALENDAR
VERSION:2.0
PRODID:-//ChamberMaster//Event Calendar 2.0//EN
METHOD:PUBLISH
X-PUBLISHED-TTL:P3D
REFRESH-INTERVAL:P3D
CALSCALE:GREGORIAN
BEGIN:VEVENT
DTSTART:20181112T150000Z
DTEND:20181112T163000Z
X-MICROSOFT-CDO-ALLDAYEVENT:FALSE
SUMMARY:Dietrich Bonhoeffer: A Modern Martyr?
DESCRIPTION:Bonhoeffer (1906-1945) was one of the most consequential Christians and theologians of the 20th century. He was a leader of the Confessing Church\, which opposed the Nazi regime. Although his studies led him to become a Christian pacifist\, he became involved in a plot to kill Hitler. He was eventually imprisoned and executed near the end of the war. This course will look at the times\, the life and thought of Bonhoeffer\, and his relevance to our own challenging times. Richard A. Kauffman is a retired editor\, last serving as book review editor of the Christian Century. He has also been a pastor\, seminary administrator and theology instructor. This class is four days: Nov. 12\, 14\, 16 & 19. Register at http://life-learn.org/ or call 574-535-7566.
X-ALT-DESC;FMTTYPE=text/html:Bonhoeffer (1906-1945) was one of the most consequential Christians and theologians of the 20th century. He was a leader of the Confessing Church\, which opposed the Nazi regime. Although his studies led him to become a Christian pacifist\, he became involved in a plot to kill Hitler. He was eventually imprisoned and executed near the end of the war. This course will look at the times\, the life and thought of Bonhoeffer\, and his relevance to our own challenging times. Richard A. Kauffman is a retired editor\, last serving as book review editor of the Christian Century. He has also been a pastor\, seminary administrator and theology instructor. This class is four days: Nov. 12\, 14\, 16 &amp\; 19. Register at http://life-learn.org/ or call 574-535-7566.
LOCATION:Greencroft Goshen Community Center\, 1820 Greencroft Blvd.
UID:e.689.17906
SEQUENCE:3
DTSTAMP:20260424T005802Z
URL:https://business.goshen.org/events/details/dietrich-bonhoeffer-a-modern-martyr-17906
END:VEVENT

END:VCALENDAR
