BEGIN:VCALENDAR
VERSION:2.0
PRODID:-//ChamberMaster//Event Calendar 2.0//EN
METHOD:PUBLISH
X-PUBLISHED-TTL:P3D
REFRESH-INTERVAL:P3D
CALSCALE:GREGORIAN
BEGIN:VEVENT
DTSTART:20170301T000000Z
DTEND:20170301T010000Z
X-MICROSOFT-CDO-ALLDAYEVENT:FALSE
SUMMARY:Did The Underground Railroad Stop in Elkhart County?
DESCRIPTION:Before the Civil War\, many slaves escaped through the North in secret on their way to freedom. This program will explore if any houses or people participated in this secret network.
X-ALT-DESC;FMTTYPE=text/html:Before the Civil War\, many slaves escaped through the North in secret on their way to freedom. This program will explore if any houses or people participated in this secret network.
LOCATION:Elkhart County Historical Museum- 304 W. Vistula St.\, Bristol\, IN 46507
UID:e.689.16210
SEQUENCE:3
DTSTAMP:20260425T154707Z
URL:https://business.goshen.org/events/details/did-the-underground-railroad-stop-in-elkhart-county-16210
END:VEVENT

END:VCALENDAR
