BEGIN:VCALENDAR
VERSION:2.0
PRODID:-//ChamberMaster//Event Calendar 2.0//EN
METHOD:PUBLISH
X-PUBLISHED-TTL:P3D
REFRESH-INTERVAL:P3D
CALSCALE:GREGORIAN
BEGIN:VEVENT
DTSTART:20170320T220000Z
DTEND:20170320T233000Z
X-MICROSOFT-CDO-ALLDAYEVENT:FALSE
SUMMARY:DEPRESSION AND DIABETES
DESCRIPTION:This interactive program will explain what depression is\, why it is common among those with diabetes and possible ways to help manage depression.
X-ALT-DESC;FMTTYPE=text/html:This interactive program will explain what depression is\, why it is common among those with diabetes and possible ways to help manage depression.
LOCATION:Goshen Heart & Vascular Center Wellness Center\, Second floor 1855 South Main St. Goshen\, IN 46526
UID:e.689.16609
SEQUENCE:3
DTSTAMP:20260425T122325Z
URL:https://business.goshen.org/events/details/depression-and-diabetes-16609
END:VEVENT

END:VCALENDAR
