BEGIN:VCALENDAR
VERSION:2.0
PRODID:-//ChamberMaster//Event Calendar 2.0//EN
METHOD:PUBLISH
X-PUBLISHED-TTL:P3D
REFRESH-INTERVAL:P3D
CALSCALE:GREGORIAN
BEGIN:VEVENT
DTSTART;VALUE=DATE:20171201
DTEND;VALUE=DATE:20171202
TRANSP:TRANSPARENT
X-MICROSOFT-CDO-ALLDAYEVENT:TRUE
SUMMARY:December First Fridays Hometown Holiday
DESCRIPTION:It's the holiday season! Come warm up and spread the holiday cheer in downtown Goshen during our Hometown Holiday celebration. Find unique gifts for your friends and loved ones at our many retail shops\, join a caroling group\, and watch the night light up at the annual tree-lighting ceremony.
X-ALT-DESC;FMTTYPE=text/html:<span style="color:rgb(86\, 86\, 86)\; font-family:open sans\,sans-serif\; font-size:14.4px">It&rsquo\;s the holiday season! Come warm up and spread the holiday cheer in downtown Goshen during our Hometown Holiday celebration. Find unique gifts for your friends and loved ones at our many retail shops\, join a caroling group\, and watch the night light up at the annual tree-lighting ceremony.</span>
LOCATION:Downtown Goshen
UID:e.689.16843
SEQUENCE:3
DTSTAMP:20260424T232516Z
URL:https://business.goshen.org/events/details/december-first-fridays-hometown-holiday-16843
END:VEVENT

END:VCALENDAR
