BEGIN:VCALENDAR
VERSION:2.0
PRODID:-//ChamberMaster//Event Calendar 2.0//EN
METHOD:PUBLISH
X-PUBLISHED-TTL:P3D
REFRESH-INTERVAL:P3D
CALSCALE:GREGORIAN
BEGIN:VEVENT
DTSTART:20170914T233000Z
DTEND:20170915T014500Z
X-MICROSOFT-CDO-ALLDAYEVENT:FALSE
SUMMARY:Decades Rewind
DESCRIPTION:Decades Rewind is a National touring concert\, dance party and theatrical performance all wrapped up in one blockbuster show! It celebrates the hits of the 60s\, 70s and 80s\, the most prominent decades in music history. Disco\, Funk\, Rock and Motown all take center stage in this brand new theatrical concert featuring over 60s songs\, 100 costume changes and nostalgic video. From Aretha to Zeppelin\, Decades Rewind will have you singing and dancing in the aisles. This IS the story of your life! Show your children your life at their age through music - Kids FREE\, through box office only. 800-294-8223
X-ALT-DESC;FMTTYPE=text/html:Decades Rewind is a National touring concert\, dance party and theatrical performance all wrapped up in one blockbuster show! It celebrates the hits of the 60s\, 70s and 80s\, the most prominent decades in music history. Disco\, Funk\, Rock and Motown all take center stage in this brand new theatrical concert featuring over 60s songs\, 100 costume changes and nostalgic video. From Aretha to Zeppelin\, Decades Rewind will have you singing and dancing in the aisles. This IS the story of your life! Show your children your life at their age through music - Kids FREE\, through box office only. 800-294-8223
LOCATION:410 S. Main St Elkhart\, IN 46516
UID:e.689.16851
SEQUENCE:3
DTSTAMP:20260425T023011Z
URL:https://business.goshen.org/events/details/decades-rewind-16851
END:VEVENT

END:VCALENDAR
