BEGIN:VCALENDAR
VERSION:2.0
PRODID:-//ChamberMaster//Event Calendar 2.0//EN
METHOD:PUBLISH
X-PUBLISHED-TTL:P3D
REFRESH-INTERVAL:P3D
CALSCALE:GREGORIAN
BEGIN:VEVENT
DTSTART;VALUE=DATE:20160910
DTEND;VALUE=DATE:20160912
TRANSP:TRANSPARENT
X-MICROSOFT-CDO-ALLDAYEVENT:TRUE
SUMMARY:Dahlia Show
DESCRIPTION:Sponsored by the Elkhart Dahlia Society.  Over 20 exhibitors will be displaying a wide variety of beautiful dahlias throughout the mall.
X-ALT-DESC;FMTTYPE=text/html:Sponsored by the Elkhart Dahlia Society.&nbsp\; Over 20 exhibitors will be displaying a wide variety of beautiful dahlias throughout the mall.&nbsp\;
LOCATION:Concord Mall 3701 S. Main Street Elkhart\, IN 46517 574-875-6502
UID:e.689.16170
SEQUENCE:3
DTSTAMP:20260425T222006Z
URL:https://business.goshen.org/events/details/dahlia-show-16170
END:VEVENT

END:VCALENDAR
