BEGIN:VCALENDAR
VERSION:2.0
PRODID:-//ChamberMaster//Event Calendar 2.0//EN
METHOD:PUBLISH
X-PUBLISHED-TTL:P3D
REFRESH-INTERVAL:P3D
CALSCALE:GREGORIAN
BEGIN:VEVENT
DTSTART:20170916T140000Z
DTEND:20170917T220000Z
X-MICROSOFT-CDO-ALLDAYEVENT:FALSE
SUMMARY:Dahlia Show
DESCRIPTION:Sponsored by the Elkhart Dahlia Society.  Over 20 exhibitors will be displaying a wide variety of beautiful dahlias throughout the mall.
X-ALT-DESC;FMTTYPE=text/html:Sponsored by the Elkhart Dahlia Society.&nbsp\; Over 20 exhibitors will be displaying a wide variety of beautiful dahlias throughout the mall.
LOCATION:Concord Mall 3701 S. Main Street Elkhart\, IN 46517 574-875-6502
UID:e.689.16991
SEQUENCE:3
DTSTAMP:20260425T023133Z
URL:https://business.goshen.org/events/details/dahlia-show-09-16-2017-16991
END:VEVENT

END:VCALENDAR
